BEGIN:VCALENDAR
VERSION:2.0
PRODID:-//Cardinal Mooney - ECPv6.15.20//NONSGML v1.0//EN
CALSCALE:GREGORIAN
METHOD:PUBLISH
X-ORIGINAL-URL:https://www.cardinalmooney.com
X-WR-CALDESC:Events for Cardinal Mooney
REFRESH-INTERVAL;VALUE=DURATION:PT1H
X-Robots-Tag:noindex
X-PUBLISHED-TTL:PT1H
BEGIN:VTIMEZONE
TZID:UTC
BEGIN:STANDARD
TZOFFSETFROM:+0000
TZOFFSETTO:+0000
TZNAME:UTC
DTSTART:20220101T000000
END:STANDARD
END:VTIMEZONE
BEGIN:VEVENT
DTSTART;TZID=UTC:20230905T080000
DTEND;TZID=UTC:20230905T170000
DTSTAMP:20260425T232736
CREATED:20230905T151112Z
LAST-MODIFIED:20230905T151112Z
UID:196083-1693900800-1693933200@www.cardinalmooney.com
SUMMARY:Cheerleading Car Wash Fundraiser
DESCRIPTION:Come out and support our cheerleaders\, and get your car nice and clean in the process! Our team will be at Chili’s in Boardman on Saturday\, Sept. 9 from 10-2 p.m.
URL:https://www.cardinalmooney.com/event/cheerleading-car-wash-fundraiser/
CATEGORIES:Calendar,Event
ATTACH;FMTTYPE=image/png:https://www.cardinalmooney.com/wp-content/uploads/2023/09/car-wash.png
END:VEVENT
END:VCALENDAR