BEGIN:VCALENDAR
VERSION:2.0
PRODID:-//Cardinal Mooney - ECPv6.15.20//NONSGML v1.0//EN
CALSCALE:GREGORIAN
METHOD:PUBLISH
X-ORIGINAL-URL:https://www.cardinalmooney.com
X-WR-CALDESC:Events for Cardinal Mooney
REFRESH-INTERVAL;VALUE=DURATION:PT1H
X-Robots-Tag:noindex
X-PUBLISHED-TTL:PT1H
BEGIN:VTIMEZONE
TZID:UTC
BEGIN:STANDARD
TZOFFSETFROM:+0000
TZOFFSETTO:+0000
TZNAME:UTC
DTSTART:20220101T000000
END:STANDARD
END:VTIMEZONE
BEGIN:VEVENT
DTSTART;TZID=UTC:20230906T084500
DTEND;TZID=UTC:20230906T094500
DTSTAMP:20260425T214653
CREATED:20230828T130110Z
LAST-MODIFIED:20230901T152416Z
UID:195975-1693989900-1693993500@www.cardinalmooney.com
SUMMARY:Picture Day
DESCRIPTION:Picture Day is Wednesday\, Sept. 6\, during regular school hours. All students are to dress in regular school uniforms. All students have already received packets to order pictures. Additional packets can be picked up in the main office.
URL:https://www.cardinalmooney.com/event/picture-day/
CATEGORIES:Calendar,Event
ATTACH;FMTTYPE=image/jpeg:https://www.cardinalmooney.com/wp-content/uploads/2023/08/101e8ad5-8766-4a05-a2e0-2986ffe6ccd8-scaled-e1693581838531.jpg
END:VEVENT
BEGIN:VEVENT
DTSTART;TZID=UTC:20230906T180000
DTEND;TZID=UTC:20230906T200000
DTSTAMP:20260425T214653
CREATED:20230828T130319Z
LAST-MODIFIED:20230901T135336Z
UID:195977-1694023200-1694030400@www.cardinalmooney.com
SUMMARY:Meet The Teacher Night
DESCRIPTION:Meet the Teachers Night is from 6-8 p.m. Please plan on arriving a little bit before 6 p.m. You will pick up your student’s schedule before heading to the auditorium for a brief introduction. Following the introduction\, you will have an opportunity to visit all eight of your student’s classes\, where the teachers will discuss their syllabi\, class expectations\, and curriculum. The teachers are excited to meet you and begin their relationship with you and your son or daughter this school year.
URL:https://www.cardinalmooney.com/event/meet-the-teacher-night/
CATEGORIES:Calendar,Event
END:VEVENT
END:VCALENDAR