BEGIN:VCALENDAR
VERSION:2.0
PRODID:-//Cardinal Mooney - ECPv6.15.20//NONSGML v1.0//EN
CALSCALE:GREGORIAN
METHOD:PUBLISH
X-WR-CALNAME:Cardinal Mooney
X-ORIGINAL-URL:https://www.cardinalmooney.com
X-WR-CALDESC:Events for Cardinal Mooney
REFRESH-INTERVAL;VALUE=DURATION:PT1H
X-Robots-Tag:noindex
X-PUBLISHED-TTL:PT1H
BEGIN:VTIMEZONE
TZID:UTC
BEGIN:STANDARD
TZOFFSETFROM:+0000
TZOFFSETTO:+0000
TZNAME:UTC
DTSTART:20220101T000000
END:STANDARD
END:VTIMEZONE
BEGIN:VEVENT
DTSTART;TZID=UTC:20230911T093000
DTEND;TZID=UTC:20230911T150000
DTSTAMP:20260424T112839
CREATED:20230828T125202Z
LAST-MODIFIED:20230828T125202Z
UID:195971-1694424600-1694444400@www.cardinalmooney.com
SUMMARY:Late Start
DESCRIPTION:
URL:https://www.cardinalmooney.com/event/late-start/
CATEGORIES:Calendar
END:VEVENT
BEGIN:VEVENT
DTSTART;TZID=UTC:20230911T150000
DTEND;TZID=UTC:20230911T170000
DTSTAMP:20260424T112839
CREATED:20230901T140524Z
LAST-MODIFIED:20230901T140524Z
UID:196057-1694444400-1694451600@www.cardinalmooney.com
SUMMARY:Speech And Debate Tryouts
DESCRIPTION:This is your chance to join one of Cardinal Mooney’s proudest traditions. Each one of our coaches are Cardinal Mooney grads who competed in speech and debate\, and they will all be on hand to see what category best fits you. If you want to empower yourself through competitive speaking\, debate\, and acting\, this is the team for you.
URL:https://www.cardinalmooney.com/event/speech-and-debate-tryouts/
CATEGORIES:Calendar,Event
ATTACH;FMTTYPE=image/png:https://www.cardinalmooney.com/wp-content/uploads/2023/09/10.png
END:VEVENT
END:VCALENDAR