BEGIN:VCALENDAR
VERSION:2.0
PRODID:-//Cardinal Mooney - ECPv6.15.20//NONSGML v1.0//EN
CALSCALE:GREGORIAN
METHOD:PUBLISH
X-WR-CALNAME:Cardinal Mooney
X-ORIGINAL-URL:https://www.cardinalmooney.com
X-WR-CALDESC:Events for Cardinal Mooney
REFRESH-INTERVAL;VALUE=DURATION:PT1H
X-Robots-Tag:noindex
X-PUBLISHED-TTL:PT1H
BEGIN:VTIMEZONE
TZID:UTC
BEGIN:STANDARD
TZOFFSETFROM:+0000
TZOFFSETTO:+0000
TZNAME:UTC
DTSTART:20220101T000000
END:STANDARD
END:VTIMEZONE
BEGIN:VEVENT
DTSTART;TZID=UTC:20230914T140000
DTEND;TZID=UTC:20230914T150000
DTSTAMP:20260422T051947
CREATED:20230907T131433Z
LAST-MODIFIED:20230907T131433Z
UID:196136-1694700000-1694703600@www.cardinalmooney.com
SUMMARY:Club Assembly
DESCRIPTION:Members from each school club will speak to the student body about the benefits of all school organizations.
URL:https://www.cardinalmooney.com/event/club-assembly/
CATEGORIES:Calendar,Event
ATTACH;FMTTYPE=image/png:https://www.cardinalmooney.com/wp-content/uploads/2023/09/20-e1694092421332.png
END:VEVENT
BEGIN:VEVENT
DTSTART;TZID=UTC:20230914T140000
DTEND;TZID=UTC:20230914T150000
DTSTAMP:20260422T051947
CREATED:20230911T133244Z
LAST-MODIFIED:20230911T133244Z
UID:196170-1694700000-1694703600@www.cardinalmooney.com
SUMMARY:Club Assembly
DESCRIPTION:On 2 p.m.\, Thursday\, Sept. 14\, students representing each club at Cardinal Mooney will speak to the student body about their organizations. Various club and team directors will also be on hand to answer questions.
URL:https://www.cardinalmooney.com/event/club-assembly-2/
CATEGORIES:Calendar,Event
ATTACH;FMTTYPE=image/jpeg:https://www.cardinalmooney.com/wp-content/uploads/2023/07/School-Lunch-scaled.jpg
END:VEVENT
END:VCALENDAR