BEGIN:VCALENDAR
VERSION:2.0
PRODID:-//Cardinal Mooney - ECPv6.15.20//NONSGML v1.0//EN
CALSCALE:GREGORIAN
METHOD:PUBLISH
X-ORIGINAL-URL:https://www.cardinalmooney.com
X-WR-CALDESC:Events for Cardinal Mooney
REFRESH-INTERVAL;VALUE=DURATION:PT1H
X-Robots-Tag:noindex
X-PUBLISHED-TTL:PT1H
BEGIN:VTIMEZONE
TZID:UTC
BEGIN:STANDARD
TZOFFSETFROM:+0000
TZOFFSETTO:+0000
TZNAME:UTC
DTSTART:20230101T000000
END:STANDARD
END:VTIMEZONE
BEGIN:VEVENT
DTSTART;TZID=UTC:20240205T080000
DTEND;TZID=UTC:20240211T170000
DTSTAMP:20260420T204654
CREATED:20240204T171358Z
LAST-MODIFIED:20240206T192805Z
UID:197232-1707120000-1707670800@www.cardinalmooney.com
SUMMARY:School & Home Partnership Super Bowl block pool
DESCRIPTION:Our School And Home Partnership has been instrumental in advancing our mission. Make sure to help them continue to make a difference for our students while you watch the Super Bowl by getting in on the block pool! Get your blocks now!
URL:https://www.cardinalmooney.com/event/blockpool/
CATEGORIES:Event
ATTACH;FMTTYPE=image/png:https://www.cardinalmooney.com/wp-content/uploads/2024/02/Super-Bowl-Logo.png
END:VEVENT
BEGIN:VEVENT
DTSTART;TZID=UTC:20240208T173000
DTEND;TZID=UTC:20240208T173000
DTSTAMP:20260420T204654
CREATED:20231214T160154Z
LAST-MODIFIED:20231214T160154Z
UID:196856-1707413400-1707413400@www.cardinalmooney.com
SUMMARY:Boys Freshman Basketball vs Warren Harding
DESCRIPTION:
URL:https://www.cardinalmooney.com/event/boys-freshman-basketball-vs-warren-harding/
END:VEVENT
END:VCALENDAR