BEGIN:VCALENDAR
VERSION:2.0
PRODID:-//Cardinal Mooney - ECPv6.15.20//NONSGML v1.0//EN
CALSCALE:GREGORIAN
METHOD:PUBLISH
X-ORIGINAL-URL:https://www.cardinalmooney.com
X-WR-CALDESC:Events for Cardinal Mooney
REFRESH-INTERVAL;VALUE=DURATION:PT1H
X-Robots-Tag:noindex
X-PUBLISHED-TTL:PT1H
BEGIN:VTIMEZONE
TZID:UTC
BEGIN:STANDARD
TZOFFSETFROM:+0000
TZOFFSETTO:+0000
TZNAME:UTC
DTSTART:20230101T000000
END:STANDARD
END:VTIMEZONE
BEGIN:VEVENT
DTSTART;VALUE=DATE:20240216
DTEND;VALUE=DATE:20240217
DTSTAMP:20260420T204631
CREATED:20230906T123007Z
LAST-MODIFIED:20230906T123007Z
UID:196100-1708041600-1708127999@www.cardinalmooney.com
SUMMARY:Teacher Day — No School
DESCRIPTION:
URL:https://www.cardinalmooney.com/event/teacher-day-no-school-3/
CATEGORIES:Calendar
END:VEVENT
BEGIN:VEVENT
DTSTART;TZID=UTC:20240216T173000
DTEND;TZID=UTC:20240216T173000
DTSTAMP:20260420T204631
CREATED:20231214T155946Z
LAST-MODIFIED:20240116T195258Z
UID:196841-1708104600-1708104600@www.cardinalmooney.com
SUMMARY:Boys JV/Varsity Basketball (Senior Night) vs Hubbard
DESCRIPTION:
URL:https://www.cardinalmooney.com/event/boys-jv-varsity-basketball-vs-hubbard/
END:VEVENT
END:VCALENDAR