BEGIN:VCALENDAR
VERSION:2.0
PRODID:-//Cardinal Mooney - ECPv6.15.20//NONSGML v1.0//EN
CALSCALE:GREGORIAN
METHOD:PUBLISH
X-WR-CALNAME:Cardinal Mooney
X-ORIGINAL-URL:https://www.cardinalmooney.com
X-WR-CALDESC:Events for Cardinal Mooney
REFRESH-INTERVAL;VALUE=DURATION:PT1H
X-Robots-Tag:noindex
X-PUBLISHED-TTL:PT1H
BEGIN:VTIMEZONE
TZID:UTC
BEGIN:STANDARD
TZOFFSETFROM:+0000
TZOFFSETTO:+0000
TZNAME:UTC
DTSTART:20230101T000000
END:STANDARD
END:VTIMEZONE
BEGIN:VEVENT
DTSTART;TZID=UTC:20240426T114000
DTEND;TZID=UTC:20240426T114000
DTSTAMP:20260420T053240
CREATED:20240425T150532Z
LAST-MODIFIED:20240425T150643Z
UID:198398-1714131600-1714131600@www.cardinalmooney.com
SUMMARY:Early Dismissal For Prom
DESCRIPTION:All juniors and seniors will be released at 11:40 a.m. to prepare for prom.
URL:https://www.cardinalmooney.com/event/early-dismissal-for-prom/
CATEGORIES:Calendar,Event
END:VEVENT
BEGIN:VEVENT
DTSTART;TZID=UTC:20240426T173000
DTEND;TZID=UTC:20240426T183000
DTSTAMP:20260420T053240
CREATED:20240131T193254Z
LAST-MODIFIED:20240205T210145Z
UID:197206-1714152600-1714156200@www.cardinalmooney.com
SUMMARY:Prom walk-in
DESCRIPTION:
URL:https://www.cardinalmooney.com/event/prom-walk-in/
LOCATION:Cardinal Mooney Gymnasium
CATEGORIES:Calendar,Event
END:VEVENT
BEGIN:VEVENT
DTSTART;TZID=UTC:20240426T193000
DTEND;TZID=UTC:20240426T223000
DTSTAMP:20260420T053240
CREATED:20240131T193410Z
LAST-MODIFIED:20240205T210223Z
UID:197208-1714159800-1714170600@www.cardinalmooney.com
SUMMARY:Prom
DESCRIPTION:
URL:https://www.cardinalmooney.com/event/prom/
LOCATION:Mr. Anthony’s\, 7440 South Avenue\, Youngstown\, OH\, 44512\, United States
CATEGORIES:Calendar,Event
END:VEVENT
END:VCALENDAR