BEGIN:VCALENDAR
VERSION:2.0
PRODID:-//Cardinal Mooney - ECPv6.15.20//NONSGML v1.0//EN
CALSCALE:GREGORIAN
METHOD:PUBLISH
X-ORIGINAL-URL:https://www.cardinalmooney.com
X-WR-CALDESC:Events for Cardinal Mooney
REFRESH-INTERVAL;VALUE=DURATION:PT1H
X-Robots-Tag:noindex
X-PUBLISHED-TTL:PT1H
BEGIN:VTIMEZONE
TZID:UTC
BEGIN:STANDARD
TZOFFSETFROM:+0000
TZOFFSETTO:+0000
TZNAME:UTC
DTSTART:20240101T000000
END:STANDARD
END:VTIMEZONE
BEGIN:VEVENT
DTSTART;VALUE=DATE:20251017
DTEND;VALUE=DATE:20251018
DTSTAMP:20260419T215845
CREATED:20250612T231504Z
LAST-MODIFIED:20250612T231504Z
UID:201865-1760659200-1760745599@www.cardinalmooney.com
SUMMARY:End of Q1
DESCRIPTION:
URL:https://www.cardinalmooney.com/event/end-of-q1/
CATEGORIES:Calendar
END:VEVENT
BEGIN:VEVENT
DTSTART;TZID=UTC:20251017T180000
DTEND;TZID=UTC:20251017T180000
DTSTAMP:20260419T215845
CREATED:20250616T232149Z
LAST-MODIFIED:20250616T232149Z
UID:202158-1760724000-1760724000@www.cardinalmooney.com
SUMMARY:Class of 1968 75th Birthday Weekend - Cocktail Party
DESCRIPTION:CMHS Class of ’68 75th Birthday Weekend\n\nWeekend of October 17th-19th\nLocation: Boardman Holiday Inn\nEvening Friday 17th @ Holiday Inn:  Cocktail Party\nEvening Saturday 18th @ Holiday Inn: Dinner\nMorning Sunday 19th @ Holiday Inn: Breakfast\n\nAdditional Details can be tracked on our Facebook page: CMHS Class of ’68\nPlease feel free to contact Tim Schulke @ tim_sch1@msn.com with any questions
URL:https://www.cardinalmooney.com/event/class-of-1968-75th-birthday-weekend-cocktail-party/
CATEGORIES:Calendar
END:VEVENT
BEGIN:VEVENT
DTSTART;TZID=UTC:20251017T190000
DTEND;TZID=UTC:20251017T190000
DTSTAMP:20260419T215845
CREATED:20250613T002806Z
LAST-MODIFIED:20250613T002806Z
UID:202023-1760727600-1760727600@www.cardinalmooney.com
SUMMARY:Varsity Football @ South Range
DESCRIPTION:
URL:https://www.cardinalmooney.com/event/varsity-football-south-range/
CATEGORIES:Athletics
END:VEVENT
END:VCALENDAR