BEGIN:VCALENDAR
VERSION:2.0
PRODID:-//Cardinal Mooney - ECPv6.15.20//NONSGML v1.0//EN
CALSCALE:GREGORIAN
METHOD:PUBLISH
X-WR-CALNAME:Cardinal Mooney
X-ORIGINAL-URL:https://www.cardinalmooney.com
X-WR-CALDESC:Events for Cardinal Mooney
REFRESH-INTERVAL;VALUE=DURATION:PT1H
X-Robots-Tag:noindex
X-PUBLISHED-TTL:PT1H
BEGIN:VTIMEZONE
TZID:UTC
BEGIN:STANDARD
TZOFFSETFROM:+0000
TZOFFSETTO:+0000
TZNAME:UTC
DTSTART:20240101T000000
END:STANDARD
END:VTIMEZONE
BEGIN:VEVENT
DTSTART;TZID=UTC:20251024T173000
DTEND;TZID=UTC:20251024T173000
DTSTAMP:20260419T174913
CREATED:20251016T145300Z
LAST-MODIFIED:20251016T171924Z
UID:203504-1761327000-1761327000@www.cardinalmooney.com
SUMMARY:Junior/Senior PowderPuff Game
DESCRIPTION:
URL:https://www.cardinalmooney.com/event/junior-senior-powderpuff-game-2/
LOCATION:Cardinal Mooney High School
CATEGORIES:Calendar
END:VEVENT
END:VCALENDAR