BEGIN:VCALENDAR
VERSION:2.0
PRODID:-//Cardinal Mooney - ECPv6.15.20//NONSGML v1.0//EN
CALSCALE:GREGORIAN
METHOD:PUBLISH
X-WR-CALNAME:Cardinal Mooney
X-ORIGINAL-URL:https://www.cardinalmooney.com
X-WR-CALDESC:Events for Cardinal Mooney
REFRESH-INTERVAL;VALUE=DURATION:PT1H
X-Robots-Tag:noindex
X-PUBLISHED-TTL:PT1H
BEGIN:VTIMEZONE
TZID:UTC
BEGIN:STANDARD
TZOFFSETFROM:+0000
TZOFFSETTO:+0000
TZNAME:UTC
DTSTART:20250101T000000
END:STANDARD
END:VTIMEZONE
BEGIN:VEVENT
DTSTART;VALUE=DATE:20260421
DTEND;VALUE=DATE:20260422
DTSTAMP:20260421T123246
CREATED:20250909T185018Z
LAST-MODIFIED:20250909T185019Z
UID:202927-1776729600-1776815999@www.cardinalmooney.com
SUMMARY:IOWA English with 2 hr. delay
DESCRIPTION:
URL:https://www.cardinalmooney.com/event/iowa-english-with-2-hr-delay-2/
CATEGORIES:Calendar,Guidance
END:VEVENT
BEGIN:VEVENT
DTSTART;TZID=UTC:20260421T093000
DTEND;TZID=UTC:20260421T093000
DTSTAMP:20260421T123246
CREATED:20250909T185020Z
LAST-MODIFIED:20250909T185021Z
UID:202928-1776763800-1776763800@www.cardinalmooney.com
SUMMARY:9:30 CCP orientation for new students
DESCRIPTION:
URL:https://www.cardinalmooney.com/event/930-ccp-orientation-for-new-students-2/
CATEGORIES:Calendar,Guidance
END:VEVENT
BEGIN:VEVENT
DTSTART;TZID=UTC:20260421T170000
DTEND;TZID=UTC:20260421T170000
DTSTAMP:20260421T123246
CREATED:20260315T171511Z
LAST-MODIFIED:20260315T171511Z
UID:205061-1776790800-1776790800@www.cardinalmooney.com
SUMMARY:JV Baseball @ Ursuline
DESCRIPTION:
URL:https://www.cardinalmooney.com/event/jv-baseball-ursuline/
CATEGORIES:Athletics
END:VEVENT
BEGIN:VEVENT
DTSTART;TZID=UTC:20260421T183000
DTEND;TZID=UTC:20260421T183000
DTSTAMP:20260421T123246
CREATED:20260315T174909Z
LAST-MODIFIED:20260315T174909Z
UID:205149-1776796200-1776796200@www.cardinalmooney.com
SUMMARY:Boys Lacrosse vs Canfield
DESCRIPTION:
URL:https://www.cardinalmooney.com/event/boys-lacrosse-vs-canfield-4/
CATEGORIES:Athletics
END:VEVENT
BEGIN:VEVENT
DTSTART;TZID=UTC:20260421T190000
DTEND;TZID=UTC:20260421T190000
DTSTAMP:20260421T123246
CREATED:20260305T012342Z
LAST-MODIFIED:20260305T012342Z
UID:204623-1776798000-1776798000@www.cardinalmooney.com
SUMMARY:Baseball @ Ursuline
DESCRIPTION:
URL:https://www.cardinalmooney.com/event/baseball-ursuline/
CATEGORIES:Athletics
END:VEVENT
END:VCALENDAR