BEGIN:VCALENDAR
VERSION:2.0
PRODID:-//Cardinal Mooney - ECPv6.15.20//NONSGML v1.0//EN
CALSCALE:GREGORIAN
METHOD:PUBLISH
X-WR-CALNAME:Cardinal Mooney
X-ORIGINAL-URL:https://www.cardinalmooney.com
X-WR-CALDESC:Events for Cardinal Mooney
REFRESH-INTERVAL;VALUE=DURATION:PT1H
X-Robots-Tag:noindex
X-PUBLISHED-TTL:PT1H
BEGIN:VTIMEZONE
TZID:UTC
BEGIN:STANDARD
TZOFFSETFROM:+0000
TZOFFSETTO:+0000
TZNAME:UTC
DTSTART:20250101T000000
END:STANDARD
END:VTIMEZONE
BEGIN:VEVENT
DTSTART;TZID=UTC:20260423T160000
DTEND;TZID=UTC:20260423T160000
DTSTAMP:20260423T021327
CREATED:20260315T165521Z
LAST-MODIFIED:20260315T165521Z
UID:205015-1776960000-1776960000@www.cardinalmooney.com
SUMMARY:Boys Tennis vs Ursuline
DESCRIPTION:
URL:https://www.cardinalmooney.com/event/boys-tennis-vs-ursuline-4/
CATEGORIES:Athletics
END:VEVENT
BEGIN:VEVENT
DTSTART;TZID=UTC:20260423T170000
DTEND;TZID=UTC:20260423T170000
DTSTAMP:20260423T021327
CREATED:20260315T171512Z
LAST-MODIFIED:20260315T171512Z
UID:205062-1776963600-1776963600@www.cardinalmooney.com
SUMMARY:JV Baseball vs West Branch
DESCRIPTION:
URL:https://www.cardinalmooney.com/event/jv-baseball-vs-west-branch/
CATEGORIES:Athletics
END:VEVENT
BEGIN:VEVENT
DTSTART;TZID=UTC:20260423T170000
DTEND;TZID=UTC:20260423T170000
DTSTAMP:20260423T021327
CREATED:20260316T202836Z
LAST-MODIFIED:20260316T202836Z
UID:205204-1776963600-1776963600@www.cardinalmooney.com
SUMMARY:Softball @ East
DESCRIPTION:
URL:https://www.cardinalmooney.com/event/softball-east-2/
CATEGORIES:Athletics
END:VEVENT
BEGIN:VEVENT
DTSTART;TZID=UTC:20260423T183000
DTEND;TZID=UTC:20260423T183000
DTSTAMP:20260423T021327
CREATED:20260315T174911Z
LAST-MODIFIED:20260315T174911Z
UID:205150-1776969000-1776969000@www.cardinalmooney.com
SUMMARY:Boys Lacrosse @ West Geauga
DESCRIPTION:
URL:https://www.cardinalmooney.com/event/boys-lacrosse-west-geauga/
CATEGORIES:Athletics
END:VEVENT
END:VCALENDAR