BEGIN:VCALENDAR
VERSION:2.0
PRODID:-//Cardinal Mooney - ECPv6.15.20//NONSGML v1.0//EN
CALSCALE:GREGORIAN
METHOD:PUBLISH
X-ORIGINAL-URL:https://www.cardinalmooney.com
X-WR-CALDESC:Events for Cardinal Mooney
REFRESH-INTERVAL;VALUE=DURATION:PT1H
X-Robots-Tag:noindex
X-PUBLISHED-TTL:PT1H
BEGIN:VTIMEZONE
TZID:UTC
BEGIN:STANDARD
TZOFFSETFROM:+0000
TZOFFSETTO:+0000
TZNAME:UTC
DTSTART:20230101T000000
END:STANDARD
END:VTIMEZONE
BEGIN:VEVENT
DTSTART;TZID=UTC:20240819T100000
DTEND;TZID=UTC:20240819T100000
DTSTAMP:20260423T180243
CREATED:20240731T203728Z
LAST-MODIFIED:20240731T203728Z
UID:199249-1724061600-1724061600@www.cardinalmooney.com
SUMMARY:Golf @ Austintown Fitch HS - Olde Dutch Mill GC
DESCRIPTION:
URL:https://www.cardinalmooney.com/event/golf-austintown-fitch-hs-olde-dutch-mill-gc/
CATEGORIES:Athletics
END:VEVENT
BEGIN:VEVENT
DTSTART;TZID=UTC:20240819T160000
DTEND;TZID=UTC:20240819T160000
DTSTAMP:20260423T180243
CREATED:20240607T150823Z
LAST-MODIFIED:20240607T150823Z
UID:198837-1724083200-1724083200@www.cardinalmooney.com
SUMMARY:Girls Tennis @ Beaver Local
DESCRIPTION:
URL:https://www.cardinalmooney.com/event/girls-tennis-beaver-local/
CATEGORIES:Athletics
END:VEVENT
BEGIN:VEVENT
DTSTART;TZID=UTC:20240819T190000
DTEND;TZID=UTC:20240819T190000
DTSTAMP:20260423T180243
CREATED:20240718T144144Z
LAST-MODIFIED:20240718T144144Z
UID:199142-1724094000-1724094000@www.cardinalmooney.com
SUMMARY:Girls Soccer vs Berkshire
DESCRIPTION:
URL:https://www.cardinalmooney.com/event/girls-soccer-vs-berkshire/
CATEGORIES:Athletics,Calendar
END:VEVENT
END:VCALENDAR