BEGIN:VCALENDAR
VERSION:2.0
PRODID:-//Cardinal Mooney - ECPv6.15.20//NONSGML v1.0//EN
CALSCALE:GREGORIAN
METHOD:PUBLISH
X-WR-CALNAME:Cardinal Mooney
X-ORIGINAL-URL:https://www.cardinalmooney.com
X-WR-CALDESC:Events for Cardinal Mooney
REFRESH-INTERVAL;VALUE=DURATION:PT1H
X-Robots-Tag:noindex
X-PUBLISHED-TTL:PT1H
BEGIN:VTIMEZONE
TZID:UTC
BEGIN:STANDARD
TZOFFSETFROM:+0000
TZOFFSETTO:+0000
TZNAME:UTC
DTSTART:20230101T000000
END:STANDARD
END:VTIMEZONE
BEGIN:VEVENT
DTSTART;TZID=UTC:20240925T164500
DTEND;TZID=UTC:20240925T164500
DTSTAMP:20260420T190526
CREATED:20240815T152702Z
LAST-MODIFIED:20240815T152702Z
UID:199425-1727282700-1727282700@www.cardinalmooney.com
SUMMARY:Cross Country @ County Meet - Austintown Park
DESCRIPTION:
URL:https://www.cardinalmooney.com/event/cross-country-county-meet-austintown-park/
CATEGORIES:Athletics
END:VEVENT
BEGIN:VEVENT
DTSTART;TZID=UTC:20240925T173000
DTEND;TZID=UTC:20240925T173000
DTSTAMP:20260420T190526
CREATED:20240513T135301Z
LAST-MODIFIED:20240513T135301Z
UID:198634-1727285400-1727285400@www.cardinalmooney.com
SUMMARY:Volleyball vs South Range
DESCRIPTION:
URL:https://www.cardinalmooney.com/event/volleyball-vs-south-range/
CATEGORIES:Athletics,Calendar
END:VEVENT
END:VCALENDAR