BEGIN:VCALENDAR
VERSION:2.0
PRODID:-//Cardinal Mooney - ECPv6.15.20//NONSGML v1.0//EN
CALSCALE:GREGORIAN
METHOD:PUBLISH
X-ORIGINAL-URL:https://www.cardinalmooney.com
X-WR-CALDESC:Events for Cardinal Mooney
REFRESH-INTERVAL;VALUE=DURATION:PT1H
X-Robots-Tag:noindex
X-PUBLISHED-TTL:PT1H
BEGIN:VTIMEZONE
TZID:UTC
BEGIN:STANDARD
TZOFFSETFROM:+0000
TZOFFSETTO:+0000
TZNAME:UTC
DTSTART:20230101T000000
END:STANDARD
END:VTIMEZONE
BEGIN:VEVENT
DTSTART;TZID=UTC:20241002T173000
DTEND;TZID=UTC:20241002T173000
DTSTAMP:20260420T171839
CREATED:20240513T135302Z
LAST-MODIFIED:20240513T135302Z
UID:198636-1727890200-1727890200@www.cardinalmooney.com
SUMMARY:Volleyball @ Akron SVSM
DESCRIPTION:
URL:https://www.cardinalmooney.com/event/volleyball-akron-svsm/
CATEGORIES:Athletics,Calendar
END:VEVENT
BEGIN:VEVENT
DTSTART;TZID=UTC:20241002T190000
DTEND;TZID=UTC:20241002T190000
DTSTAMP:20260420T171839
CREATED:20240605T161455Z
LAST-MODIFIED:20240605T161455Z
UID:198783-1727895600-1727895600@www.cardinalmooney.com
SUMMARY:Boys Soccer @ Western Reserve Academy
DESCRIPTION:
URL:https://www.cardinalmooney.com/event/boys-soccer-western-reserve-academy/
CATEGORIES:Athletics
END:VEVENT
BEGIN:VEVENT
DTSTART;TZID=UTC:20241002T190000
DTEND;TZID=UTC:20241002T190000
DTSTAMP:20260420T171839
CREATED:20240718T144149Z
LAST-MODIFIED:20240718T144149Z
UID:199154-1727895600-1727895600@www.cardinalmooney.com
SUMMARY:Girls Soccer vs Garfield
DESCRIPTION:
URL:https://www.cardinalmooney.com/event/girls-soccer-vs-garfield/
CATEGORIES:Athletics,Calendar
END:VEVENT
END:VCALENDAR