BEGIN:VCALENDAR
VERSION:2.0
PRODID:-//Cardinal Mooney - ECPv6.15.20//NONSGML v1.0//EN
CALSCALE:GREGORIAN
METHOD:PUBLISH
X-ORIGINAL-URL:https://www.cardinalmooney.com
X-WR-CALDESC:Events for Cardinal Mooney
REFRESH-INTERVAL;VALUE=DURATION:PT1H
X-Robots-Tag:noindex
X-PUBLISHED-TTL:PT1H
BEGIN:VTIMEZONE
TZID:UTC
BEGIN:STANDARD
TZOFFSETFROM:+0000
TZOFFSETTO:+0000
TZNAME:UTC
DTSTART:20230101T000000
END:STANDARD
END:VTIMEZONE
BEGIN:VEVENT
DTSTART;TZID=UTC:20241207T173000
DTEND;TZID=UTC:20241207T173000
DTSTAMP:20260420T140847
CREATED:20241119T154539Z
LAST-MODIFIED:20241119T154539Z
UID:200198-1733592600-1733592600@www.cardinalmooney.com
SUMMARY:Boys Basketball @ Struthers
DESCRIPTION:
URL:https://www.cardinalmooney.com/event/boys-basketball-struthers/
CATEGORIES:Athletics
END:VEVENT
BEGIN:VEVENT
DTSTART;TZID=UTC:20241207T173000
DTEND;TZID=UTC:20241207T173000
DTSTAMP:20260420T140847
CREATED:20241119T155144Z
LAST-MODIFIED:20241119T155144Z
UID:200254-1733592600-1733592600@www.cardinalmooney.com
SUMMARY:Girls Basketball vs Canfield
DESCRIPTION:
URL:https://www.cardinalmooney.com/event/girls-basketball-vs-canfield-2/
CATEGORIES:Athletics
END:VEVENT
END:VCALENDAR