BEGIN:VCALENDAR
VERSION:2.0
PRODID:-//Cardinal Mooney - ECPv6.15.20//NONSGML v1.0//EN
CALSCALE:GREGORIAN
METHOD:PUBLISH
X-ORIGINAL-URL:https://www.cardinalmooney.com
X-WR-CALDESC:Events for Cardinal Mooney
REFRESH-INTERVAL;VALUE=DURATION:PT1H
X-Robots-Tag:noindex
X-PUBLISHED-TTL:PT1H
BEGIN:VTIMEZONE
TZID:UTC
BEGIN:STANDARD
TZOFFSETFROM:+0000
TZOFFSETTO:+0000
TZNAME:UTC
DTSTART:20230101T000000
END:STANDARD
END:VTIMEZONE
BEGIN:VEVENT
DTSTART;TZID=UTC:20241228T113000
DTEND;TZID=UTC:20241228T113000
DTSTAMP:20260420T054812
CREATED:20241119T155148Z
LAST-MODIFIED:20241119T155148Z
UID:200261-1735385400-1735385400@www.cardinalmooney.com
SUMMARY:Girls Basketball @ Akron Hoban
DESCRIPTION:
URL:https://www.cardinalmooney.com/event/girls-basketball-akron-hoban/
CATEGORIES:Athletics
END:VEVENT
BEGIN:VEVENT
DTSTART;TZID=UTC:20241228T170000
DTEND;TZID=UTC:20241228T170000
DTSTAMP:20260420T054812
CREATED:20241119T154545Z
LAST-MODIFIED:20241119T154545Z
UID:200204-1735405200-1735405200@www.cardinalmooney.com
SUMMARY:Boys Basketball @ Elyria
DESCRIPTION:
URL:https://www.cardinalmooney.com/event/boys-basketball-elyria/
CATEGORIES:Athletics
END:VEVENT
END:VCALENDAR