BEGIN:VCALENDAR
VERSION:2.0
PRODID:-//Cardinal Mooney - ECPv6.15.20//NONSGML v1.0//EN
CALSCALE:GREGORIAN
METHOD:PUBLISH
X-ORIGINAL-URL:https://www.cardinalmooney.com
X-WR-CALDESC:Events for Cardinal Mooney
REFRESH-INTERVAL;VALUE=DURATION:PT1H
X-Robots-Tag:noindex
X-PUBLISHED-TTL:PT1H
BEGIN:VTIMEZONE
TZID:UTC
BEGIN:STANDARD
TZOFFSETFROM:+0000
TZOFFSETTO:+0000
TZNAME:UTC
DTSTART:20240101T000000
END:STANDARD
END:VTIMEZONE
BEGIN:VEVENT
DTSTART;TZID=UTC:20250108T173000
DTEND;TZID=UTC:20250108T173000
DTSTAMP:20260419T180731
CREATED:20241119T154548Z
LAST-MODIFIED:20241119T154548Z
UID:200208-1736357400-1736357400@www.cardinalmooney.com
SUMMARY:Boys Basketball vs Chaney
DESCRIPTION:
URL:https://www.cardinalmooney.com/event/boys-basketball-vs-chaney-2/
CATEGORIES:Athletics
END:VEVENT
BEGIN:VEVENT
DTSTART;TZID=UTC:20250108T173000
DTEND;TZID=UTC:20250108T173000
DTSTAMP:20260419T180731
CREATED:20251014T184126Z
LAST-MODIFIED:20251014T184126Z
UID:203310-1736357400-1736357400@www.cardinalmooney.com
SUMMARY:Boys Freshman Basketball @ Boardman
DESCRIPTION:
URL:https://www.cardinalmooney.com/event/boys-freshman-basketball-boardman-2/
CATEGORIES:Athletics
END:VEVENT
END:VCALENDAR