BEGIN:VCALENDAR
VERSION:2.0
PRODID:-//Cardinal Mooney - ECPv6.15.20//NONSGML v1.0//EN
CALSCALE:GREGORIAN
METHOD:PUBLISH
X-WR-CALNAME:Cardinal Mooney
X-ORIGINAL-URL:https://www.cardinalmooney.com
X-WR-CALDESC:Events for Cardinal Mooney
REFRESH-INTERVAL;VALUE=DURATION:PT1H
X-Robots-Tag:noindex
X-PUBLISHED-TTL:PT1H
BEGIN:VTIMEZONE
TZID:UTC
BEGIN:STANDARD
TZOFFSETFROM:+0000
TZOFFSETTO:+0000
TZNAME:UTC
DTSTART:20250101T000000
END:STANDARD
END:VTIMEZONE
BEGIN:VEVENT
DTSTART;TZID=UTC:20260418T110000
DTEND;TZID=UTC:20260418T110000
DTSTAMP:20260419T141802
CREATED:20260315T174907Z
LAST-MODIFIED:20260315T174907Z
UID:205148-1776510000-1776510000@www.cardinalmooney.com
SUMMARY:Boys Lacrosse @ Akron SVSM
DESCRIPTION:
URL:https://www.cardinalmooney.com/event/boys-lacrosse-akron-svsm/
CATEGORIES:Athletics
END:VEVENT
BEGIN:VEVENT
DTSTART;TZID=UTC:20260418T110000
DTEND;TZID=UTC:20260418T110000
DTSTAMP:20260419T141802
CREATED:20260316T202828Z
LAST-MODIFIED:20260316T202828Z
UID:205200-1776510000-1776510000@www.cardinalmooney.com
SUMMARY:Softball vs Pymatuning Valley
DESCRIPTION:
URL:https://www.cardinalmooney.com/event/softball-vs-pymatuning-valley/
CATEGORIES:Athletics
END:VEVENT
BEGIN:VEVENT
DTSTART;TZID=UTC:20260418T120000
DTEND;TZID=UTC:20260418T120000
DTSTAMP:20260419T141802
CREATED:20260305T012339Z
LAST-MODIFIED:20260305T012339Z
UID:204621-1776513600-1776513600@www.cardinalmooney.com
SUMMARY:Baseball vs Salem
DESCRIPTION:
URL:https://www.cardinalmooney.com/event/baseball-vs-salem/
CATEGORIES:Athletics
END:VEVENT
BEGIN:VEVENT
DTSTART;TZID=UTC:20260418T120000
DTEND;TZID=UTC:20260418T120000
DTSTAMP:20260419T141802
CREATED:20260315T171507Z
LAST-MODIFIED:20260315T171507Z
UID:205059-1776513600-1776513600@www.cardinalmooney.com
SUMMARY:JV Baseball @ Canfield
DESCRIPTION:
URL:https://www.cardinalmooney.com/event/jv-baseball-canfield/
CATEGORIES:Athletics
END:VEVENT
END:VCALENDAR