BEGIN:VCALENDAR
VERSION:2.0
PRODID:-//Cardinal Mooney - ECPv6.15.20//NONSGML v1.0//EN
CALSCALE:GREGORIAN
METHOD:PUBLISH
X-ORIGINAL-URL:https://www.cardinalmooney.com
X-WR-CALDESC:Events for Cardinal Mooney
REFRESH-INTERVAL;VALUE=DURATION:PT1H
X-Robots-Tag:noindex
X-PUBLISHED-TTL:PT1H
BEGIN:VTIMEZONE
TZID:UTC
BEGIN:STANDARD
TZOFFSETFROM:+0000
TZOFFSETTO:+0000
TZNAME:UTC
DTSTART:20240101T000000
END:STANDARD
END:VTIMEZONE
BEGIN:VEVENT
DTSTART;TZID=UTC:20250308T100000
DTEND;TZID=UTC:20250308T133000
DTSTAMP:20260420T075622
CREATED:20250113T150615Z
LAST-MODIFIED:20250113T150615Z
UID:200799-1741428000-1741440600@www.cardinalmooney.com
SUMMARY:Youth Baseball Camp
DESCRIPTION:When: Saturday\, March 8\, 2025\, from 10 a.m. to 1:30 p.m. \nWhere: Cardinal Mooney Ron Stoops Baseball/Softball Facility (located behind the Armory on Mooney’s Campus\, off Rush Avenue). \nWho: Baseball players in 3rd-8th grade who want to get some work in! \nWhat to Bring: Glove\, bat\, baseball pants or sweatpants\, athletic/all-purpose shoes\, water\, and a hat. (If the weather permits\, we may practice outside on turf). \nCost: $40 per camper \nPizza and a t-shirt are included! \nRegister here! \nContact Coach Eddie Reese at ereese@cardinalmooney.com or 330-507-2301
URL:https://www.cardinalmooney.com/event/baseballcamp/
CATEGORIES:Athletics,Calendar,Event
ATTACH;FMTTYPE=image/png:https://www.cardinalmooney.com/wp-content/uploads/2025/01/Cardinals.png
END:VEVENT
BEGIN:VEVENT
DTSTART;TZID=UTC:20250312T183000
DTEND;TZID=UTC:20250312T183000
DTSTAMP:20260420T075622
CREATED:20250225T143755Z
LAST-MODIFIED:20250225T143755Z
UID:201227-1741804200-1741804200@www.cardinalmooney.com
SUMMARY:Girls Lacrosse @ Gilmour
DESCRIPTION:Gilmour
URL:https://www.cardinalmooney.com/event/girls-lacrosse-gilmour/
CATEGORIES:Athletics
END:VEVENT
BEGIN:VEVENT
DTSTART;TZID=UTC:20250315T100000
DTEND;TZID=UTC:20250315T100000
DTSTAMP:20260420T075622
CREATED:20250612T233604Z
LAST-MODIFIED:20250612T233604Z
UID:201913-1742032800-1742032800@www.cardinalmooney.com
SUMMARY:Softball (Grades 3-8)
DESCRIPTION:
URL:https://www.cardinalmooney.com/event/softball-grades-3-8/
CATEGORIES:Athletics
END:VEVENT
BEGIN:VEVENT
DTSTART;TZID=UTC:20250315T100000
DTEND;TZID=UTC:20250315T130000
DTSTAMP:20260420T075622
CREATED:20250205T143133Z
LAST-MODIFIED:20250205T143133Z
UID:201041-1742032800-1742043600@www.cardinalmooney.com
SUMMARY:Youth Softball Clinic
DESCRIPTION:Register here!
URL:https://www.cardinalmooney.com/event/youthsoftballclinic/
LOCATION:Cardinal Mooney Baseball Facility
CATEGORIES:Athletics,Calendar,Event
ATTACH;FMTTYPE=image/png:https://www.cardinalmooney.com/wp-content/uploads/2025/02/Cardinals.png
END:VEVENT
BEGIN:VEVENT
DTSTART;TZID=UTC:20250318T183000
DTEND;TZID=UTC:20250318T183000
DTSTAMP:20260420T075622
CREATED:20250225T143756Z
LAST-MODIFIED:20250225T143756Z
UID:201228-1742322600-1742322600@www.cardinalmooney.com
SUMMARY:Girls Lacrosse vs Green
DESCRIPTION:Mooney
URL:https://www.cardinalmooney.com/event/girls-lacrosse-vs-green-2/
CATEGORIES:Athletics
END:VEVENT
BEGIN:VEVENT
DTSTART;TZID=UTC:20250324T173000
DTEND;TZID=UTC:20250324T173000
DTSTAMP:20260420T075622
CREATED:20250131T181901Z
LAST-MODIFIED:20250131T181908Z
UID:200963-1742837400-1742837400@www.cardinalmooney.com
SUMMARY:Varsity Softball @ Berkshire
DESCRIPTION:Berkshire
URL:https://www.cardinalmooney.com/event/varsity-softball-berkshire/
CATEGORIES:Athletics
END:VEVENT
BEGIN:VEVENT
DTSTART;TZID=UTC:20250326T170000
DTEND;TZID=UTC:20250326T170000
DTSTAMP:20260420T075622
CREATED:20250131T181902Z
LAST-MODIFIED:20250131T181908Z
UID:200964-1743008400-1743008400@www.cardinalmooney.com
SUMMARY:Varsity Softball @ Chaney
DESCRIPTION:Chaney
URL:https://www.cardinalmooney.com/event/varsity-softball-chaney/
CATEGORIES:Athletics
END:VEVENT
BEGIN:VEVENT
DTSTART;TZID=UTC:20250328T170000
DTEND;TZID=UTC:20250328T170000
DTSTAMP:20260420T075622
CREATED:20250131T161827Z
LAST-MODIFIED:20250131T161910Z
UID:200869-1743181200-1743181200@www.cardinalmooney.com
SUMMARY:Varsity Baseball vs Canfield - Cene 1
DESCRIPTION:Cene 1
URL:https://www.cardinalmooney.com/event/varsity-baseball-vs-canfield-cene-1/
CATEGORIES:Athletics
END:VEVENT
BEGIN:VEVENT
DTSTART;TZID=UTC:20250328T170000
DTEND;TZID=UTC:20250328T170000
DTSTAMP:20260420T075622
CREATED:20250131T162456Z
LAST-MODIFIED:20250131T162456Z
UID:200924-1743181200-1743181200@www.cardinalmooney.com
SUMMARY:JV Baseball vs Canfield - Cene 2
DESCRIPTION:Cene 2
URL:https://www.cardinalmooney.com/event/jv-baseball-vs-canfield-cene-2/
CATEGORIES:Athletics
END:VEVENT
BEGIN:VEVENT
DTSTART;TZID=UTC:20250328T170000
DTEND;TZID=UTC:20250328T170000
DTSTAMP:20260420T075622
CREATED:20250131T181902Z
LAST-MODIFIED:20250131T181908Z
UID:200965-1743181200-1743181200@www.cardinalmooney.com
SUMMARY:Varsity Softball @ Struthers
DESCRIPTION:Struthers
URL:https://www.cardinalmooney.com/event/varsity-softball-struthers/
CATEGORIES:Athletics
END:VEVENT
BEGIN:VEVENT
DTSTART;TZID=UTC:20250329T110000
DTEND;TZID=UTC:20250329T110000
DTSTAMP:20260420T075622
CREATED:20250131T161830Z
LAST-MODIFIED:20250131T161912Z
UID:200870-1743246000-1743246000@www.cardinalmooney.com
SUMMARY:Varsity Baseball @ Norwayne
DESCRIPTION:College of Wooster
URL:https://www.cardinalmooney.com/event/varsity-baseball-norwayne/
CATEGORIES:Athletics
END:VEVENT
BEGIN:VEVENT
DTSTART;TZID=UTC:20250329T133000
DTEND;TZID=UTC:20250329T133000
DTSTAMP:20260420T075622
CREATED:20250131T161832Z
LAST-MODIFIED:20250131T161914Z
UID:200871-1743255000-1743255000@www.cardinalmooney.com
SUMMARY:Varsity Baseball @ Triway
DESCRIPTION:College of Wooster
URL:https://www.cardinalmooney.com/event/varsity-baseball-triway/
CATEGORIES:Athletics
END:VEVENT
BEGIN:VEVENT
DTSTART;TZID=UTC:20250331T160000
DTEND;TZID=UTC:20250331T160000
DTSTAMP:20260420T075622
CREATED:20250225T142345Z
LAST-MODIFIED:20250225T142345Z
UID:201153-1743436800-1743436800@www.cardinalmooney.com
SUMMARY:Boys Tennis vs Boardman
DESCRIPTION:Home
URL:https://www.cardinalmooney.com/event/boys-tennis-vs-boardman-3/
CATEGORIES:Athletics
END:VEVENT
BEGIN:VEVENT
DTSTART;TZID=UTC:20250331T170000
DTEND;TZID=UTC:20250331T170000
DTSTAMP:20260420T075622
CREATED:20250131T161834Z
LAST-MODIFIED:20250131T161915Z
UID:200872-1743440400-1743440400@www.cardinalmooney.com
SUMMARY:Varsity Baseball vs Salem - Cene 1
DESCRIPTION:Cene 1
URL:https://www.cardinalmooney.com/event/varsity-baseball-vs-salem-cene-1/
CATEGORIES:Athletics
END:VEVENT
BEGIN:VEVENT
DTSTART;TZID=UTC:20250331T170000
DTEND;TZID=UTC:20250331T170000
DTSTAMP:20260420T075622
CREATED:20250131T162458Z
LAST-MODIFIED:20250131T162458Z
UID:200925-1743440400-1743440400@www.cardinalmooney.com
SUMMARY:JV Baseball @ Salem
DESCRIPTION:Salem
URL:https://www.cardinalmooney.com/event/jv-baseball-salem/
CATEGORIES:Athletics
END:VEVENT
BEGIN:VEVENT
DTSTART;TZID=UTC:20250331T170000
DTEND;TZID=UTC:20250331T170000
DTSTAMP:20260420T075622
CREATED:20250131T181903Z
LAST-MODIFIED:20250131T181909Z
UID:200966-1743440400-1743440400@www.cardinalmooney.com
SUMMARY:Varsity Softball @ St. Thomas Aquinas
DESCRIPTION:St. Thomas Aquinas
URL:https://www.cardinalmooney.com/event/varsity-softball-st-thomas-aquinas/
CATEGORIES:Athletics
END:VEVENT
BEGIN:VEVENT
DTSTART;TZID=UTC:20250331T180000
DTEND;TZID=UTC:20250331T180000
DTSTAMP:20260420T075622
CREATED:20250225T143757Z
LAST-MODIFIED:20250225T143757Z
UID:201229-1743444000-1743444000@www.cardinalmooney.com
SUMMARY:Girls Lacrosse @ Boardman
DESCRIPTION:Boardman
URL:https://www.cardinalmooney.com/event/girls-lacrosse-boardman-2/
CATEGORIES:Athletics
END:VEVENT
BEGIN:VEVENT
DTSTART;TZID=UTC:20250331T183000
DTEND;TZID=UTC:20250331T183000
DTSTAMP:20260420T075622
CREATED:20250225T143344Z
LAST-MODIFIED:20250225T143344Z
UID:201197-1743445800-1743445800@www.cardinalmooney.com
SUMMARY:Boys Lacrosse vs Lakewood
DESCRIPTION:Mooney
URL:https://www.cardinalmooney.com/event/boys-lacrosse-vs-lakewood-2/
CATEGORIES:Athletics
END:VEVENT
BEGIN:VEVENT
DTSTART;TZID=UTC:20250401T160000
DTEND;TZID=UTC:20250401T160000
DTSTAMP:20260420T075622
CREATED:20250225T142346Z
LAST-MODIFIED:20250225T142346Z
UID:201155-1743523200-1743523200@www.cardinalmooney.com
SUMMARY:Boys Tennis @ Lakeview
DESCRIPTION:Lakeview (Willow Park)
URL:https://www.cardinalmooney.com/event/boys-tennis-lakeview-3/
CATEGORIES:Athletics
END:VEVENT
BEGIN:VEVENT
DTSTART;TZID=UTC:20250401T170000
DTEND;TZID=UTC:20250401T170000
DTSTAMP:20260420T075622
CREATED:20250131T161838Z
LAST-MODIFIED:20250131T161916Z
UID:200873-1743526800-1743526800@www.cardinalmooney.com
SUMMARY:Varsity Baseball @ Akron Hoban
DESCRIPTION:Akron Hoban
URL:https://www.cardinalmooney.com/event/varsity-baseball-akron-hoban/
CATEGORIES:Athletics
END:VEVENT
BEGIN:VEVENT
DTSTART;TZID=UTC:20250401T170000
DTEND;TZID=UTC:20250401T170000
DTSTAMP:20260420T075622
CREATED:20250131T162501Z
LAST-MODIFIED:20250131T162501Z
UID:200926-1743526800-1743526800@www.cardinalmooney.com
SUMMARY:JV Baseball vs Hoban - Cene 2
DESCRIPTION:Cene 2
URL:https://www.cardinalmooney.com/event/jv-baseball-vs-hoban-cene-2/
CATEGORIES:Athletics
END:VEVENT
BEGIN:VEVENT
DTSTART;TZID=UTC:20250402T160000
DTEND;TZID=UTC:20250402T160000
DTSTAMP:20260420T075622
CREATED:20250225T142347Z
LAST-MODIFIED:20250225T142347Z
UID:201156-1743609600-1743609600@www.cardinalmooney.com
SUMMARY:Boys Tennis @ Warren Harding
DESCRIPTION:Warren Harding (Lincoln Elementary)
URL:https://www.cardinalmooney.com/event/boys-tennis-warren-harding/
CATEGORIES:Athletics
END:VEVENT
BEGIN:VEVENT
DTSTART;TZID=UTC:20250402T170000
DTEND;TZID=UTC:20250402T170000
DTSTAMP:20260420T075622
CREATED:20250131T161840Z
LAST-MODIFIED:20250131T161917Z
UID:200874-1743613200-1743613200@www.cardinalmooney.com
SUMMARY:Varsity Baseball @ JFK
DESCRIPTION:Eastwood Field
URL:https://www.cardinalmooney.com/event/varsity-baseball-jfk/
CATEGORIES:Athletics
END:VEVENT
BEGIN:VEVENT
DTSTART;TZID=UTC:20250402T173000
DTEND;TZID=UTC:20250402T173000
DTSTAMP:20260420T075622
CREATED:20250131T181904Z
LAST-MODIFIED:20250131T181909Z
UID:200967-1743615000-1743615000@www.cardinalmooney.com
SUMMARY:Varsity Softball vs Southeast
DESCRIPTION:Southeast
URL:https://www.cardinalmooney.com/event/varsity-softball-vs-southeast/
CATEGORIES:Athletics
END:VEVENT
BEGIN:VEVENT
DTSTART;TZID=UTC:20250402T180000
DTEND;TZID=UTC:20250402T180000
DTSTAMP:20260420T075622
CREATED:20250225T143345Z
LAST-MODIFIED:20250225T143345Z
UID:201198-1743616800-1743616800@www.cardinalmooney.com
SUMMARY:Boys Lacrosse vs CCC
DESCRIPTION:Mooney
URL:https://www.cardinalmooney.com/event/boys-lacrosse-vs-ccc/
CATEGORIES:Athletics
END:VEVENT
BEGIN:VEVENT
DTSTART;TZID=UTC:20250402T183000
DTEND;TZID=UTC:20250402T183000
DTSTAMP:20260420T075622
CREATED:20250225T143758Z
LAST-MODIFIED:20250225T143758Z
UID:201230-1743618600-1743618600@www.cardinalmooney.com
SUMMARY:Girls Lacrosse @ Hoban
DESCRIPTION:Hoban
URL:https://www.cardinalmooney.com/event/girls-lacrosse-hoban/
CATEGORIES:Athletics
END:VEVENT
BEGIN:VEVENT
DTSTART;TZID=UTC:20250403T160000
DTEND;TZID=UTC:20250403T160000
DTSTAMP:20260420T075622
CREATED:20250225T142348Z
LAST-MODIFIED:20250225T142348Z
UID:201157-1743696000-1743696000@www.cardinalmooney.com
SUMMARY:Boys Tennis @ Austintown Fitch
DESCRIPTION:Austintown Township Park
URL:https://www.cardinalmooney.com/event/boys-tennis-austintown-fitch/
CATEGORIES:Athletics
END:VEVENT
BEGIN:VEVENT
DTSTART;TZID=UTC:20250403T170000
DTEND;TZID=UTC:20250403T170000
DTSTAMP:20260420T075622
CREATED:20250131T161843Z
LAST-MODIFIED:20250131T161918Z
UID:200875-1743699600-1743699600@www.cardinalmooney.com
SUMMARY:Varsity Baseball @ Fitch
DESCRIPTION:Fitch
URL:https://www.cardinalmooney.com/event/varsity-baseball-fitch/
CATEGORIES:Athletics
END:VEVENT
BEGIN:VEVENT
DTSTART;TZID=UTC:20250403T170000
DTEND;TZID=UTC:20250403T170000
DTSTAMP:20260420T075622
CREATED:20250131T162504Z
LAST-MODIFIED:20250131T162504Z
UID:200927-1743699600-1743699600@www.cardinalmooney.com
SUMMARY:JV Baseball vs Fitch - Cene 2
DESCRIPTION:Cene 2
URL:https://www.cardinalmooney.com/event/jv-baseball-vs-fitch-cene-2/
CATEGORIES:Athletics
END:VEVENT
BEGIN:VEVENT
DTSTART;TZID=UTC:20250403T183000
DTEND;TZID=UTC:20250403T183000
DTSTAMP:20260420T075622
CREATED:20250225T143759Z
LAST-MODIFIED:20250225T143759Z
UID:201231-1743705000-1743705000@www.cardinalmooney.com
SUMMARY:Girls Lacrosse vs Kenston
DESCRIPTION:Mooney
URL:https://www.cardinalmooney.com/event/girls-lacrosse-vs-kenston-2/
CATEGORIES:Athletics
END:VEVENT
END:VCALENDAR