BEGIN:VCALENDAR
VERSION:2.0
PRODID:-//Cardinal Mooney - ECPv6.15.20//NONSGML v1.0//EN
CALSCALE:GREGORIAN
METHOD:PUBLISH
X-ORIGINAL-URL:https://www.cardinalmooney.com
X-WR-CALDESC:Events for Cardinal Mooney
REFRESH-INTERVAL;VALUE=DURATION:PT1H
X-Robots-Tag:noindex
X-PUBLISHED-TTL:PT1H
BEGIN:VTIMEZONE
TZID:UTC
BEGIN:STANDARD
TZOFFSETFROM:+0000
TZOFFSETTO:+0000
TZNAME:UTC
DTSTART:20230101T000000
END:STANDARD
END:VTIMEZONE
BEGIN:VEVENT
DTSTART;TZID=UTC:20240828T173000
DTEND;TZID=UTC:20240828T173000
DTSTAMP:20260422T052256
CREATED:20240513T135254Z
LAST-MODIFIED:20240513T135254Z
UID:198622-1724866200-1724866200@www.cardinalmooney.com
SUMMARY:Volleyball @ Western Reserve
DESCRIPTION:
URL:https://www.cardinalmooney.com/event/volleyball-western-reserve/
CATEGORIES:Athletics,Calendar
END:VEVENT
BEGIN:VEVENT
DTSTART;TZID=UTC:20240828T150000
DTEND;TZID=UTC:20240828T170000
DTSTAMP:20260422T052256
CREATED:20240716T154509Z
LAST-MODIFIED:20240820T154118Z
UID:199125-1724857200-1724864400@www.cardinalmooney.com
SUMMARY:Speech And Debate Tryouts
DESCRIPTION:
URL:https://www.cardinalmooney.com/event/speech-and-debate-tryouts-2/
LOCATION:Cardinal Mooney High School
CATEGORIES:Calendar,Event
ATTACH;FMTTYPE=image/png:https://www.cardinalmooney.com/wp-content/uploads/2023/09/10.png
END:VEVENT
BEGIN:VEVENT
DTSTART;TZID=UTC:20240826T180000
DTEND;TZID=UTC:20240826T180000
DTSTAMP:20260422T052256
CREATED:20240718T144146Z
LAST-MODIFIED:20240718T144146Z
UID:199145-1724695200-1724695200@www.cardinalmooney.com
SUMMARY:Girls Soccer vs WRA
DESCRIPTION:
URL:https://www.cardinalmooney.com/event/girls-soccer-vs-wra/
CATEGORIES:Athletics,Calendar
END:VEVENT
BEGIN:VEVENT
DTSTART;TZID=UTC:20240826T173000
DTEND;TZID=UTC:20240826T173000
DTSTAMP:20260422T052256
CREATED:20240513T135254Z
LAST-MODIFIED:20240513T135254Z
UID:198621-1724693400-1724693400@www.cardinalmooney.com
SUMMARY:Volleyball vs Liberty
DESCRIPTION:
URL:https://www.cardinalmooney.com/event/volleyball-vs-liberty/
CATEGORIES:Athletics,Calendar
END:VEVENT
BEGIN:VEVENT
DTSTART;TZID=UTC:20240825T130000
DTEND;TZID=UTC:20240825T170000
DTSTAMP:20260422T052256
CREATED:20240610T170811Z
LAST-MODIFIED:20240610T172343Z
UID:198896-1724590800-1724605200@www.cardinalmooney.com
SUMMARY:Back-To-School Bash
DESCRIPTION:
URL:https://www.cardinalmooney.com/event/back-to-school-bash/
LOCATION:Casesse’s MVR
CATEGORIES:Calendar,Event
ATTACH;FMTTYPE=image/jpeg:https://www.cardinalmooney.com/wp-content/uploads/2024/06/Annotation-2024-06-10-125852.jpg
END:VEVENT
BEGIN:VEVENT
DTSTART;TZID=UTC:20240824T130000
DTEND;TZID=UTC:20240824T130000
DTSTAMP:20260422T052256
CREATED:20240718T144145Z
LAST-MODIFIED:20240718T144145Z
UID:199144-1724504400-1724504400@www.cardinalmooney.com
SUMMARY:Girls Soccer @ Springfield High School
DESCRIPTION:
URL:https://www.cardinalmooney.com/event/girls-soccer-springfield-high-school/
CATEGORIES:Athletics,Calendar
END:VEVENT
BEGIN:VEVENT
DTSTART;TZID=UTC:20240824T110000
DTEND;TZID=UTC:20240824T110000
DTSTAMP:20260422T052256
CREATED:20240513T135253Z
LAST-MODIFIED:20240513T135253Z
UID:198620-1724497200-1724497200@www.cardinalmooney.com
SUMMARY:Volleyball vs McDonald
DESCRIPTION:
URL:https://www.cardinalmooney.com/event/volleyball-vs-mcdonald/
CATEGORIES:Athletics,Calendar
END:VEVENT
BEGIN:VEVENT
DTSTART;TZID=UTC:20240822T173000
DTEND;TZID=UTC:20240822T173000
DTSTAMP:20260422T052256
CREATED:20240513T135253Z
LAST-MODIFIED:20240513T135253Z
UID:198619-1724347800-1724347800@www.cardinalmooney.com
SUMMARY:Volleyball @ Chaney
DESCRIPTION:
URL:https://www.cardinalmooney.com/event/volleyball-chaney/
CATEGORIES:Athletics,Calendar
END:VEVENT
BEGIN:VEVENT
DTSTART;TZID=UTC:20240822T080000
DTEND;TZID=UTC:20240822T150000
DTSTAMP:20260422T052256
CREATED:20240715T152312Z
LAST-MODIFIED:20240715T152312Z
UID:199044-1724313600-1724338800@www.cardinalmooney.com
SUMMARY:First Day Of School For All Students
DESCRIPTION:
URL:https://www.cardinalmooney.com/event/first-day-of-school-for-all-students/
CATEGORIES:Calendar,Event
END:VEVENT
BEGIN:VEVENT
DTSTART;TZID=UTC:20240821T190000
DTEND;TZID=UTC:20240821T190000
DTSTAMP:20260422T052256
CREATED:20240718T144145Z
LAST-MODIFIED:20240718T144145Z
UID:199143-1724266800-1724266800@www.cardinalmooney.com
SUMMARY:Girls Soccer @ Struthers
DESCRIPTION:
URL:https://www.cardinalmooney.com/event/girls-soccer-struthers/
CATEGORIES:Athletics,Calendar
END:VEVENT
BEGIN:VEVENT
DTSTART;TZID=UTC:20240821T083000
DTEND;TZID=UTC:20240821T133000
DTSTAMP:20260422T052256
CREATED:20240708T170610Z
LAST-MODIFIED:20240708T170906Z
UID:199013-1724229000-1724247000@www.cardinalmooney.com
SUMMARY:New Student Orientation
DESCRIPTION:
URL:https://www.cardinalmooney.com/event/new-student-orientation-2/
LOCATION:Cardinal Mooney High School
CATEGORIES:Calendar,Event
END:VEVENT
BEGIN:VEVENT
DTSTART;TZID=UTC:20240820T080000
DTEND;TZID=UTC:20240820T150000
DTSTAMP:20260422T052256
CREATED:20240708T170434Z
LAST-MODIFIED:20240708T170434Z
UID:199011-1724140800-1724166000@www.cardinalmooney.com
SUMMARY:Faculty in-service
DESCRIPTION:
URL:https://www.cardinalmooney.com/event/faculty-in-service/
LOCATION:Cardinal Mooney High School
CATEGORIES:Calendar
END:VEVENT
BEGIN:VEVENT
DTSTART;TZID=UTC:20240819T190000
DTEND;TZID=UTC:20240819T190000
DTSTAMP:20260422T052256
CREATED:20240718T144144Z
LAST-MODIFIED:20240718T144144Z
UID:199142-1724094000-1724094000@www.cardinalmooney.com
SUMMARY:Girls Soccer vs Berkshire
DESCRIPTION:
URL:https://www.cardinalmooney.com/event/girls-soccer-vs-berkshire/
CATEGORIES:Athletics,Calendar
END:VEVENT
BEGIN:VEVENT
DTSTART;TZID=UTC:20240819T080000
DTEND;TZID=UTC:20240819T150000
DTSTAMP:20260422T052256
CREATED:20240708T165827Z
LAST-MODIFIED:20240708T170329Z
UID:199008-1724054400-1724079600@www.cardinalmooney.com
SUMMARY:STEAM faculty in-service
DESCRIPTION:
URL:https://www.cardinalmooney.com/event/steam-faculty-inservice/
LOCATION:Cardinal Mooney High School
CATEGORIES:Calendar
END:VEVENT
BEGIN:VEVENT
DTSTART;TZID=UTC:20240817T160000
DTEND;TZID=UTC:20240817T160000
DTSTAMP:20260422T052256
CREATED:20240718T144144Z
LAST-MODIFIED:20240718T144144Z
UID:199141-1723910400-1723910400@www.cardinalmooney.com
SUMMARY:Girls Soccer @ West Branch
DESCRIPTION:
URL:https://www.cardinalmooney.com/event/girls-soccer-west-branch/
CATEGORIES:Athletics,Calendar
END:VEVENT
BEGIN:VEVENT
DTSTART;TZID=UTC:20240816T080000
DTEND;TZID=UTC:20240816T153000
DTSTAMP:20260422T052256
CREATED:20240708T171346Z
LAST-MODIFIED:20240708T171620Z
UID:199018-1723795200-1723822200@www.cardinalmooney.com
SUMMARY:Teacher in-service
DESCRIPTION:
URL:https://www.cardinalmooney.com/event/teacher-in-service/
LOCATION:Cardinal Mooney High School
CATEGORIES:Calendar
END:VEVENT
BEGIN:VEVENT
DTSTART;TZID=UTC:20240814T060000
DTEND;TZID=UTC:20240814T193000
DTSTAMP:20260422T052256
CREATED:20240708T153318Z
LAST-MODIFIED:20240708T153318Z
UID:198997-1723615200-1723663800@www.cardinalmooney.com
SUMMARY:New Student Parent Orientation
DESCRIPTION:
URL:https://www.cardinalmooney.com/event/new-student-parent-orientation/
LOCATION:Cardinal Mooney High School Auditorium
CATEGORIES:Calendar,Event
END:VEVENT
BEGIN:VEVENT
DTSTART;TZID=UTC:20240810T180000
DTEND;TZID=UTC:20240810T220000
DTSTAMP:20260422T052256
CREATED:20240715T165930Z
LAST-MODIFIED:20240723T232212Z
UID:199075-1723312800-1723327200@www.cardinalmooney.com
SUMMARY:Football Bingo Night
DESCRIPTION:
URL:https://www.cardinalmooney.com/event/football-bingo-night/
LOCATION:Cardinal Mooney High School
CATEGORIES:Athletics,Calendar,Event
ATTACH;FMTTYPE=image/png:https://www.cardinalmooney.com/wp-content/uploads/2024/07/Yellow-and-Red-Minimalist-Bingo-Night-Instagram-Post.png
END:VEVENT
BEGIN:VEVENT
DTSTART;TZID=UTC:20240807T083000
DTEND;TZID=UTC:20240807T140000
DTSTAMP:20260422T052256
CREATED:20240708T153044Z
LAST-MODIFIED:20240708T153044Z
UID:198995-1723019400-1723039200@www.cardinalmooney.com
SUMMARY:New Student Class Registration
DESCRIPTION:
URL:https://www.cardinalmooney.com/event/new-student-class-registration-3/
CATEGORIES:Calendar,Event
END:VEVENT
BEGIN:VEVENT
DTSTART;TZID=UTC:20240805T074500
DTEND;TZID=UTC:20240805T210000
DTSTAMP:20260422T052256
CREATED:20240708T165511Z
LAST-MODIFIED:20240708T165526Z
UID:199004-1722843900-1722891600@www.cardinalmooney.com
SUMMARY:All faculty/staff meeting
DESCRIPTION:
URL:https://www.cardinalmooney.com/event/all-faculty-staff-meeting/
LOCATION:Cardinal Mooney High School
CATEGORIES:Calendar
END:VEVENT
BEGIN:VEVENT
DTSTART;TZID=UTC:20240804T100000
DTEND;TZID=UTC:20240804T130000
DTSTAMP:20260422T052256
CREATED:20240517T145343Z
LAST-MODIFIED:20240517T145343Z
UID:198690-1722765600-1722776400@www.cardinalmooney.com
SUMMARY:Class of 1992 Brunch
DESCRIPTION:Sunday\, August 4\, 10 a.m.\n323 W. Garfield Road\, Columbiana (Thank you\, Mrs. Golladay\, for graciously allowing us to use your home!)\nBreakfast included. BYOB brunch cocktails.\nRSVP to Sarah Cernica Reichard at (330)550-9811
URL:https://www.cardinalmooney.com/event/class-of-1992-brunch/
CATEGORIES:Calendar,Event
ATTACH;FMTTYPE=image/png:https://www.cardinalmooney.com/wp-content/uploads/2024/05/1992.png
END:VEVENT
BEGIN:VEVENT
DTSTART;TZID=UTC:20240803T100000
DTEND;TZID=UTC:20240803T140000
DTSTAMP:20260422T052256
CREATED:20240610T163924Z
LAST-MODIFIED:20240610T163924Z
UID:198893-1722679200-1722693600@www.cardinalmooney.com
SUMMARY:Cardinal Mooney Volleyball Car Wash
DESCRIPTION:
URL:https://www.cardinalmooney.com/event/cardinal-mooney-volleyball-car-wash/
LOCATION:Creekside Fitness
CATEGORIES:Athletics,Calendar,Event
END:VEVENT
BEGIN:VEVENT
DTSTART;TZID=UTC:20240803T060000
DTEND;TZID=UTC:20240803T220000
DTSTAMP:20260422T052256
CREATED:20240517T144548Z
LAST-MODIFIED:20240517T144753Z
UID:198688-1722664800-1722722400@www.cardinalmooney.com
SUMMARY:Class of 1992 50th Birthday Extravaganza
DESCRIPTION:August 3\, 6 p.m. cocktails and appetizers\, 7 p.m. buffet\nThe Embassy\, 5030 Youngstown-Poland Road\, Youngstown\n$80/person includes an open bar from 6-10 p.m.\, appetizers\, dinner\, and dessert\nSmart casual attire and music provided by DJ Dean Congemi!\nRSVP by July 1 to Valerie via text/phone at (330)720-0119 and Venmo @Valerie-Palumbo-3 by July 13.
URL:https://www.cardinalmooney.com/event/class-of-1992-50th-birthday-extravaganza/
LOCATION:The Embassy\, 5030 Youngstown-Poland Rd\, Youngstown\, OH\, 44514
CATEGORIES:Calendar,Event
ATTACH;FMTTYPE=image/png:https://www.cardinalmooney.com/wp-content/uploads/2024/05/1992.png
END:VEVENT
BEGIN:VEVENT
DTSTART;TZID=UTC:20240802T180000
DTEND;TZID=UTC:20240802T220000
DTSTAMP:20260422T052256
CREATED:20240517T144322Z
LAST-MODIFIED:20240517T144322Z
UID:198685-1722621600-1722636000@www.cardinalmooney.com
SUMMARY:Class of 1992 Casual Meet-Up
DESCRIPTION:Friday\, August 2\, 6–10 p.m. Light appetizers provided\, cash bar\nDouble Bogey’s Bar & Grill\, 7401 Market Street\, Boardman\nRSVP to Leif Mitchell at (203)258-3718
URL:https://www.cardinalmooney.com/event/class-of-1992-casual-meet-up/
LOCATION:Double Bogey’s Lake Club Lounge (at Southern Park Mall)
CATEGORIES:Calendar,Event
ATTACH;FMTTYPE=image/png:https://www.cardinalmooney.com/wp-content/uploads/2024/05/1992.png
END:VEVENT
BEGIN:VEVENT
DTSTART;TZID=UTC:20240802T113000
DTEND;TZID=UTC:20240802T170000
DTSTAMP:20260422T052256
CREATED:20240517T144112Z
LAST-MODIFIED:20240517T144112Z
UID:198681-1722598200-1722618000@www.cardinalmooney.com
SUMMARY:Class of 1992 50th Birthday Golf Outing/Lunch
DESCRIPTION:Friday\, August 2\nTee Times start at 11:30 a.m. ($60 includes cart)\, or meet on the patio for lunch\nKensington Golf Club & Grille\, 4171 Westford Place\, Canfield\nRSVP to Brendan McCloud at (330)502-6463
URL:https://www.cardinalmooney.com/event/class-of-1992-50th-birthday-golf-outing-lunch/
LOCATION:Kensington Golf Club & Grille
CATEGORIES:Calendar,Event
ATTACH;FMTTYPE=image/png:https://www.cardinalmooney.com/wp-content/uploads/2024/05/1992.png
END:VEVENT
BEGIN:VEVENT
DTSTART;TZID=UTC:20240724T083000
DTEND;TZID=UTC:20240724T140000
DTSTAMP:20260422T052256
CREATED:20240708T144605Z
LAST-MODIFIED:20240708T144605Z
UID:198992-1721809800-1721829600@www.cardinalmooney.com
SUMMARY:New Student Class Registration
DESCRIPTION:
URL:https://www.cardinalmooney.com/event/new-student-class-registration-2/
LOCATION:Cardinal Mooney High School
CATEGORIES:Calendar,Event
END:VEVENT
BEGIN:VEVENT
DTSTART;TZID=UTC:20240710T083000
DTEND;TZID=UTC:20240710T140000
DTSTAMP:20260422T052256
CREATED:20240708T144407Z
LAST-MODIFIED:20240708T144407Z
UID:198988-1720600200-1720620000@www.cardinalmooney.com
SUMMARY:New Student Class Registration
DESCRIPTION:
URL:https://www.cardinalmooney.com/event/new-student-class-registration/
LOCATION:Cardinal Mooney High School
CATEGORIES:Calendar,Event
END:VEVENT
BEGIN:VEVENT
DTSTART;VALUE=DATE:20240701
DTEND;VALUE=DATE:20240706
DTSTAMP:20260422T052256
CREATED:20240628T203841Z
LAST-MODIFIED:20240628T203841Z
UID:198975-1719792000-1720223999@www.cardinalmooney.com
SUMMARY:School administrative offices closed
DESCRIPTION:Cardinal Mooney High School’s administrative offices will be closed for business from Monday\, July 1 through Friday\, July 5. Offices will re-open on Monday\, July 8th at 8 a.m.
URL:https://www.cardinalmooney.com/event/school-administrative-offices-closed/
LOCATION:Cardinal Mooney High School
CATEGORIES:Calendar
ATTACH;FMTTYPE=image/png:https://www.cardinalmooney.com/wp-content/uploads/2024/06/notice.png
END:VEVENT
BEGIN:VEVENT
DTSTART;TZID=UTC:20240630T120000
DTEND;TZID=UTC:20240630T233000
DTSTAMP:20260422T052256
CREATED:20240604T165339Z
LAST-MODIFIED:20240604T165339Z
UID:198760-1719748800-1719790200@www.cardinalmooney.com
SUMMARY:The Ron Stoops Sr. & Anthony Pelini Memorial Bocce Social
DESCRIPTION:The Ron Stoops Sr. & Anthony Pelini Memorial Bocce Social is one of the most important\, impactful events of the year\, and it’s stronger than ever. \nLearn about sponsorship opportunities\, benefits\, and how to register here! Deadline for rehistration is June 23 — so get in on the fun!
URL:https://www.cardinalmooney.com/event/the-ron-stoops-sr-anthony-pelini-memorial-bocce-social/
LOCATION:Casesse’s MVR
CATEGORIES:Athletics,Calendar,Event
ATTACH;FMTTYPE=image/jpeg:https://www.cardinalmooney.com/wp-content/uploads/2024/06/Annotation-2024-06-04-124149.jpg
END:VEVENT
BEGIN:VEVENT
DTSTART;TZID=UTC:20240615T100000
DTEND;TZID=UTC:20240615T140000
DTSTAMP:20260422T052256
CREATED:20240510T161944Z
LAST-MODIFIED:20240510T162036Z
UID:198600-1718445600-1718460000@www.cardinalmooney.com
SUMMARY:Football Car Wash
DESCRIPTION:
URL:https://www.cardinalmooney.com/event/football-car-wash/
LOCATION:Chili’s in Boardman
CATEGORIES:Athletics,Calendar,Event
ATTACH;FMTTYPE=image/png:https://www.cardinalmooney.com/wp-content/uploads/2024/05/FOOTBALL-CAR-WASH.png
END:VEVENT
END:VCALENDAR