BEGIN:VCALENDAR
VERSION:2.0
PRODID:-//Cardinal Mooney - ECPv6.15.20//NONSGML v1.0//EN
CALSCALE:GREGORIAN
METHOD:PUBLISH
X-ORIGINAL-URL:https://www.cardinalmooney.com
X-WR-CALDESC:Events for Cardinal Mooney
REFRESH-INTERVAL;VALUE=DURATION:PT1H
X-Robots-Tag:noindex
X-PUBLISHED-TTL:PT1H
BEGIN:VTIMEZONE
TZID:UTC
BEGIN:STANDARD
TZOFFSETFROM:+0000
TZOFFSETTO:+0000
TZNAME:UTC
DTSTART:20230101T000000
END:STANDARD
END:VTIMEZONE
BEGIN:VEVENT
DTSTART;TZID=UTC:20240411T080000
DTEND;TZID=UTC:20240411T082500
DTSTAMP:20260423T130736
CREATED:20240319T152010Z
LAST-MODIFIED:20240319T152010Z
UID:198045-1712822400-1712823900@www.cardinalmooney.com
SUMMARY:Drama Club meeting
DESCRIPTION:
URL:https://www.cardinalmooney.com/event/drama-club-meeting-2/
CATEGORIES:Calendar
END:VEVENT
BEGIN:VEVENT
DTSTART;TZID=UTC:20240411T080000
DTEND;TZID=UTC:20240411T082500
DTSTAMP:20260423T130736
CREATED:20240319T151721Z
LAST-MODIFIED:20240319T151721Z
UID:198039-1712822400-1712823900@www.cardinalmooney.com
SUMMARY:Crimson Feather meeting
DESCRIPTION:
URL:https://www.cardinalmooney.com/event/crimson-feather-meeting-2/
CATEGORIES:Calendar
END:VEVENT
BEGIN:VEVENT
DTSTART;TZID=UTC:20240410T160000
DTEND;TZID=UTC:20240410T200000
DTSTAMP:20260423T130736
CREATED:20240313T150534Z
LAST-MODIFIED:20240313T150543Z
UID:197980-1712764800-1712779200@www.cardinalmooney.com
SUMMARY:Student Council Chipotle fundraiser
DESCRIPTION:
URL:https://www.cardinalmooney.com/event/student-council-chipotle-fundraiser/
LOCATION:Chipotle in Boardman\, 525 Boardman Poland Road\, Boardman\, OH\, 44512\, United States
CATEGORIES:Calendar,Event
ATTACH;FMTTYPE=image/jpeg:https://www.cardinalmooney.com/wp-content/uploads/2024/03/Annotation-2024-03-13-105829.jpg
END:VEVENT
BEGIN:VEVENT
DTSTART;TZID=UTC:20240410T110000
DTEND;TZID=UTC:20240410T130000
DTSTAMP:20260423T130736
CREATED:20230907T133000Z
LAST-MODIFIED:20231207T132804Z
UID:196143-1712746800-1712754000@www.cardinalmooney.com
SUMMARY:Distinguished Alumni
DESCRIPTION:In one of the most important days in our year\, we take time to recognize people who graduated from Cardinal Mooney and went on to distinguish themselves in fields all over the world. The honorees will be honored with a prayer service and lunch. Our students will also have the opportunity to hear speeches from the honorees\, who share how vital their experience at Cardinal Mooney was to their success.
URL:https://www.cardinalmooney.com/event/distinguished-alumni/
CATEGORIES:Calendar,Event
ATTACH;FMTTYPE=image/jpeg:https://www.cardinalmooney.com/wp-content/uploads/2023/08/Michael-Nick-Beyer-Cheryl-scaled-e1694093386257.jpg
END:VEVENT
BEGIN:VEVENT
DTSTART;TZID=UTC:20240409T080000
DTEND;TZID=UTC:20240409T082500
DTSTAMP:20260423T130736
CREATED:20240319T150843Z
LAST-MODIFIED:20240319T150843Z
UID:198033-1712649600-1712651100@www.cardinalmooney.com
SUMMARY:Spanish Club meeting
DESCRIPTION:
URL:https://www.cardinalmooney.com/event/spanish-club-meeting/
CATEGORIES:Calendar
END:VEVENT
BEGIN:VEVENT
DTSTART;TZID=UTC:20240409T080000
DTEND;TZID=UTC:20240409T082500
DTSTAMP:20260423T130736
CREATED:20240319T150622Z
LAST-MODIFIED:20240319T150633Z
UID:198029-1712649600-1712651100@www.cardinalmooney.com
SUMMARY:Italian Club meeting
DESCRIPTION:
URL:https://www.cardinalmooney.com/event/italian-club-meeting/
CATEGORIES:Calendar
END:VEVENT
BEGIN:VEVENT
DTSTART;TZID=UTC:20240409T080000
DTEND;TZID=UTC:20240409T082500
DTSTAMP:20260423T130736
CREATED:20240319T145433Z
LAST-MODIFIED:20240319T145433Z
UID:198019-1712649600-1712651100@www.cardinalmooney.com
SUMMARY:Link Crew meeting
DESCRIPTION:
URL:https://www.cardinalmooney.com/event/link-crew-meeting/
LOCATION:Cardinal Mooney High School
CATEGORIES:Calendar
END:VEVENT
BEGIN:VEVENT
DTSTART;TZID=UTC:20240409T080000
DTEND;TZID=UTC:20240409T082500
DTSTAMP:20260423T130736
CREATED:20240319T144702Z
LAST-MODIFIED:20240319T144702Z
UID:198009-1712649600-1712651100@www.cardinalmooney.com
SUMMARY:Book Club meeting
DESCRIPTION:
URL:https://www.cardinalmooney.com/event/book-club-meeting/
LOCATION:Cardinal Mooney High School
CATEGORIES:Calendar
END:VEVENT
BEGIN:VEVENT
DTSTART;TZID=UTC:20240408T093000
DTEND;TZID=UTC:20240408T150000
DTSTAMP:20260423T130736
CREATED:20230906T132706Z
LAST-MODIFIED:20230906T132706Z
UID:196119-1712568600-1712588400@www.cardinalmooney.com
SUMMARY:Late Start
DESCRIPTION:
URL:https://www.cardinalmooney.com/event/late-start-7/
CATEGORIES:Calendar
END:VEVENT
BEGIN:VEVENT
DTSTART;VALUE=DATE:20240329
DTEND;VALUE=DATE:20240406
DTSTAMP:20260423T130736
CREATED:20230906T132535Z
LAST-MODIFIED:20230906T132535Z
UID:196117-1711670400-1712361599@www.cardinalmooney.com
SUMMARY:Easter Break
DESCRIPTION:
URL:https://www.cardinalmooney.com/event/easter-break/
CATEGORIES:Calendar
END:VEVENT
BEGIN:VEVENT
DTSTART;TZID=UTC:20240328T080000
DTEND;TZID=UTC:20240328T082500
DTSTAMP:20260423T130736
CREATED:20240319T153941Z
LAST-MODIFIED:20240319T153941Z
UID:198105-1711612800-1711614300@www.cardinalmooney.com
SUMMARY:Astronomy Club meeting
DESCRIPTION:
URL:https://www.cardinalmooney.com/event/astronomy-club-meeting/
CATEGORIES:Calendar
END:VEVENT
BEGIN:VEVENT
DTSTART;TZID=UTC:20240328T080000
DTEND;TZID=UTC:20240328T082500
DTSTAMP:20260423T130736
CREATED:20240319T153732Z
LAST-MODIFIED:20240319T153732Z
UID:198091-1711612800-1711614300@www.cardinalmooney.com
SUMMARY:Yearbook meeting
DESCRIPTION:
URL:https://www.cardinalmooney.com/event/yearbook-meeting/
CATEGORIES:Calendar
END:VEVENT
BEGIN:VEVENT
DTSTART;TZID=UTC:20240328T080000
DTEND;TZID=UTC:20240328T082500
DTSTAMP:20260423T130736
CREATED:20240319T153534Z
LAST-MODIFIED:20240319T153534Z
UID:198085-1711612800-1711614300@www.cardinalmooney.com
SUMMARY:Student Council meeting
DESCRIPTION:
URL:https://www.cardinalmooney.com/event/student-council-meeting/
CATEGORIES:Calendar
END:VEVENT
BEGIN:VEVENT
DTSTART;TZID=UTC:20240326T080000
DTEND;TZID=UTC:20240326T082500
DTSTAMP:20260423T130736
CREATED:20240319T153145Z
LAST-MODIFIED:20240319T153145Z
UID:198074-1711440000-1711441500@www.cardinalmooney.com
SUMMARY:Ora et Labora Club
DESCRIPTION:
URL:https://www.cardinalmooney.com/event/ora-et-labora-club/
CATEGORIES:Calendar
END:VEVENT
BEGIN:VEVENT
DTSTART;TZID=UTC:20240326T080000
DTEND;TZID=UTC:20240326T082500
DTSTAMP:20260423T130736
CREATED:20240319T152940Z
LAST-MODIFIED:20240319T152940Z
UID:198068-1711440000-1711441500@www.cardinalmooney.com
SUMMARY:Art Club meeting
DESCRIPTION:
URL:https://www.cardinalmooney.com/event/art-club-meeting/
CATEGORIES:Calendar
END:VEVENT
BEGIN:VEVENT
DTSTART;TZID=UTC:20240326T080000
DTEND;TZID=UTC:20240326T082500
DTSTAMP:20260423T130736
CREATED:20240319T152716Z
LAST-MODIFIED:20240319T152717Z
UID:198062-1711440000-1711441500@www.cardinalmooney.com
SUMMARY:Bridge Building Club meeting
DESCRIPTION:
URL:https://www.cardinalmooney.com/event/bridge-building-club-meeting/
CATEGORIES:Calendar
END:VEVENT
BEGIN:VEVENT
DTSTART;TZID=UTC:20240322T090000
DTEND;TZID=UTC:20240322T130000
DTSTAMP:20260423T130736
CREATED:20230906T125552Z
LAST-MODIFIED:20240227T221007Z
UID:196114-1711098000-1711112400@www.cardinalmooney.com
SUMMARY:Fifth And Sixth Grade Day — No School
DESCRIPTION:Fifth and sixth graders from around the area are invited to experience a day in the life of a Cardinal Mooney student. Experience classes\, fine and performing arts\, athletics\, and lunch with yoiur future high school classmates.
URL:https://www.cardinalmooney.com/event/fifth-and-sixth-grade-day-no-school/
CATEGORIES:Calendar,Event
ATTACH;FMTTYPE=image/jpeg:https://www.cardinalmooney.com/wp-content/uploads/2023/09/unnamed-2.jpg
END:VEVENT
BEGIN:VEVENT
DTSTART;TZID=UTC:20240321T080000
DTEND;TZID=UTC:20240321T082500
DTSTAMP:20260423T130736
CREATED:20240319T152500Z
LAST-MODIFIED:20240319T152500Z
UID:198055-1711008000-1711009500@www.cardinalmooney.com
SUMMARY:Entrepreneurship Club meeting
DESCRIPTION:
URL:https://www.cardinalmooney.com/event/entrepreneurship-club-meeting/
CATEGORIES:Calendar
END:VEVENT
BEGIN:VEVENT
DTSTART;TZID=UTC:20240321T080000
DTEND;TZID=UTC:20240321T082500
DTSTAMP:20260423T130736
CREATED:20240319T152257Z
LAST-MODIFIED:20240319T152257Z
UID:198049-1711008000-1711009500@www.cardinalmooney.com
SUMMARY:Quiz Bowl practice
DESCRIPTION:
URL:https://www.cardinalmooney.com/event/quiz-bowl-practice/
CATEGORIES:Calendar
END:VEVENT
BEGIN:VEVENT
DTSTART;TZID=UTC:20240321T080000
DTEND;TZID=UTC:20240321T082500
DTSTAMP:20260423T130736
CREATED:20240319T151943Z
LAST-MODIFIED:20240319T151943Z
UID:198043-1711008000-1711009500@www.cardinalmooney.com
SUMMARY:Drama Club meeting
DESCRIPTION:
URL:https://www.cardinalmooney.com/event/drama-club-meeting/
CATEGORIES:Calendar
END:VEVENT
BEGIN:VEVENT
DTSTART;TZID=UTC:20240321T080000
DTEND;TZID=UTC:20240321T082500
DTSTAMP:20260423T130736
CREATED:20240319T151653Z
LAST-MODIFIED:20240319T151653Z
UID:198037-1711008000-1711009500@www.cardinalmooney.com
SUMMARY:Crimson Feather meeting
DESCRIPTION:
URL:https://www.cardinalmooney.com/event/crimson-feather-meeting/
CATEGORIES:Calendar
END:VEVENT
BEGIN:VEVENT
DTSTART;TZID=UTC:20240320T170000
DTEND;TZID=UTC:20240320T200000
DTSTAMP:20260423T130736
CREATED:20240122T210432Z
LAST-MODIFIED:20240122T210432Z
UID:197135-1710954000-1710964800@www.cardinalmooney.com
SUMMARY:Freshman Registration
DESCRIPTION:
URL:https://www.cardinalmooney.com/event/freshman-registration-2/
LOCATION:Cardinal Mooney High School
CATEGORIES:Calendar,Event
END:VEVENT
BEGIN:VEVENT
DTSTART;VALUE=DATE:20240315
DTEND;VALUE=DATE:20240316
DTSTAMP:20260423T130736
CREATED:20230906T124931Z
LAST-MODIFIED:20230906T124931Z
UID:196112-1710460800-1710547199@www.cardinalmooney.com
SUMMARY:End Of Third Quarter
DESCRIPTION:
URL:https://www.cardinalmooney.com/event/end-of-third-quarter/
CATEGORIES:Calendar
END:VEVENT
BEGIN:VEVENT
DTSTART;TZID=UTC:20240309T100000
DTEND;TZID=UTC:20240309T140000
DTSTAMP:20260423T130736
CREATED:20240201T143421Z
LAST-MODIFIED:20240201T143421Z
UID:197210-1709978400-1709992800@www.cardinalmooney.com
SUMMARY:Youth Baseball Camp
DESCRIPTION:Register here!
URL:https://www.cardinalmooney.com/event/youth-baseball-camp/
LOCATION:Cardinal Mooney Baseball Facility
CATEGORIES:Calendar,Event
ATTACH;FMTTYPE=image/png:https://www.cardinalmooney.com/wp-content/uploads/2024/02/Cardinals.png
END:VEVENT
BEGIN:VEVENT
DTSTART;TZID=UTC:20240303T140000
DTEND;TZID=UTC:20240303T170000
DTSTAMP:20260423T130736
CREATED:20240131T163357Z
LAST-MODIFIED:20240205T013342Z
UID:197198-1709474400-1709485200@www.cardinalmooney.com
SUMMARY:Cardinal Mooney Theater presents: Sister Act
DESCRIPTION:
URL:https://www.cardinalmooney.com/event/cardinal-mooney-theater-presents-sister-act-2/
LOCATION:Cardinal Mooney Auditorium
CATEGORIES:Calendar,Event
END:VEVENT
BEGIN:VEVENT
DTSTART;TZID=UTC:20240302T190000
DTEND;TZID=UTC:20240302T220000
DTSTAMP:20260423T130736
CREATED:20240131T163222Z
LAST-MODIFIED:20240131T163222Z
UID:197195-1709406000-1709416800@www.cardinalmooney.com
SUMMARY:Cardinal Mooney Theater presents: Sister Act
DESCRIPTION:
URL:https://www.cardinalmooney.com/event/cardinal-mooney-theater-presents-sister-act/
LOCATION:Cardinal Mooney Auditorium
CATEGORIES:Calendar,Event
END:VEVENT
BEGIN:VEVENT
DTSTART;TZID=UTC:20240229T180000
DTEND;TZID=UTC:20240229T220000
DTSTAMP:20260423T130736
CREATED:20240131T163052Z
LAST-MODIFIED:20240131T163101Z
UID:197193-1709229600-1709244000@www.cardinalmooney.com
SUMMARY:Cardinal Mooney Theater presents: Sister Act dinner showing
DESCRIPTION:
URL:https://www.cardinalmooney.com/event/cardinal-mooney-theater-presents-sister-act-dinner-showing/
LOCATION:Cardinal Mooney Auditorium
CATEGORIES:Calendar,Event
END:VEVENT
BEGIN:VEVENT
DTSTART;TZID=UTC:20240229T090000
DTEND;TZID=UTC:20240229T130000
DTSTAMP:20260423T130736
CREATED:20230906T123305Z
LAST-MODIFIED:20240226T153547Z
UID:196104-1709197200-1709211600@www.cardinalmooney.com
SUMMARY:Seventh Grade Day — No School
DESCRIPTION:Seventh-graders from around the Mahoning Valley are invited to spend a day as a Cardinal Mooney Cardinal. Students will explore different classes\, eat lunch\, and even engage in athletic contests!
URL:https://www.cardinalmooney.com/event/seventh-grade-day-no-school/
CATEGORIES:Calendar,Event
ATTACH;FMTTYPE=image/jpeg:https://www.cardinalmooney.com/wp-content/uploads/2023/09/unnamed-1.jpg
END:VEVENT
BEGIN:VEVENT
DTSTART;TZID=UTC:20240221T170000
DTEND;TZID=UTC:20240221T190000
DTSTAMP:20260423T130736
CREATED:20240130T205417Z
LAST-MODIFIED:20240130T205513Z
UID:197191-1708534800-1708542000@www.cardinalmooney.com
SUMMARY:Parent/Teacher Conferences
DESCRIPTION:
URL:https://www.cardinalmooney.com/event/parent-teacher-conferences/
LOCATION:Cardinal Mooney High School
CATEGORIES:Calendar,Event
END:VEVENT
BEGIN:VEVENT
DTSTART;TZID=UTC:20240218T180000
DTEND;TZID=UTC:20240218T220000
DTSTAMP:20260423T130736
CREATED:20231101T145248Z
LAST-MODIFIED:20240124T142421Z
UID:196465-1708279200-1708293600@www.cardinalmooney.com
SUMMARY:Hall Of Fame Banquet
DESCRIPTION:Tickets and program ads can be purchased now!
URL:https://www.cardinalmooney.com/event/hall-of-fame-banquet/
LOCATION:The Lake Club
CATEGORIES:Calendar,Event
ATTACH;FMTTYPE=image/png:https://www.cardinalmooney.com/wp-content/uploads/2023/11/HOF.png
END:VEVENT
END:VCALENDAR