BEGIN:VCALENDAR
VERSION:2.0
PRODID:-//Cardinal Mooney - ECPv6.15.20//NONSGML v1.0//EN
CALSCALE:GREGORIAN
METHOD:PUBLISH
X-ORIGINAL-URL:https://www.cardinalmooney.com
X-WR-CALDESC:Events for Cardinal Mooney
REFRESH-INTERVAL;VALUE=DURATION:PT1H
X-Robots-Tag:noindex
X-PUBLISHED-TTL:PT1H
BEGIN:VTIMEZONE
TZID:UTC
BEGIN:STANDARD
TZOFFSETFROM:+0000
TZOFFSETTO:+0000
TZNAME:UTC
DTSTART:20230101T000000
END:STANDARD
END:VTIMEZONE
BEGIN:VEVENT
DTSTART;TZID=UTC:20240901T190000
DTEND;TZID=UTC:20240901T220000
DTSTAMP:20260419T160416
CREATED:20240131T165642Z
LAST-MODIFIED:20240131T165828Z
UID:197201-1725217200-1725228000@www.cardinalmooney.com
SUMMARY:Class of '89 35th-year Reunion
DESCRIPTION:Cardinal Mooney Class if 1989\n35th Reunion\nSunday\, Sept. 1\, 2024\n7 p.m.\nFireplace Restaurant\, Poland\nInvitations will be emailed\nPlease contact Kim Simons Cox at kimberlycox89@gmail.com with any questions.
URL:https://www.cardinalmooney.com/event/class-of-89-35th-year-reunion/
LOCATION:The Fireplace Restaurant
CATEGORIES:Calendar,Event
END:VEVENT
BEGIN:VEVENT
DTSTART;TZID=UTC:20240904T084500
DTEND;TZID=UTC:20240904T104500
DTSTAMP:20260419T160416
CREATED:20240708T171857Z
LAST-MODIFIED:20240708T171944Z
UID:199020-1725439500-1725446700@www.cardinalmooney.com
SUMMARY:Picture Day
DESCRIPTION:
URL:https://www.cardinalmooney.com/event/picture-day-2/
LOCATION:Cardinal Mooney High School
CATEGORIES:Calendar,Event
END:VEVENT
BEGIN:VEVENT
DTSTART;TZID=UTC:20240904T180000
DTEND;TZID=UTC:20240904T200000
DTSTAMP:20260419T160416
CREATED:20240708T172029Z
LAST-MODIFIED:20240708T172029Z
UID:199022-1725472800-1725480000@www.cardinalmooney.com
SUMMARY:Meet The Teacher
DESCRIPTION:
URL:https://www.cardinalmooney.com/event/meet-the-teacher/
LOCATION:Cardinal Mooney High School
CATEGORIES:Calendar,Event
END:VEVENT
BEGIN:VEVENT
DTSTART;TZID=UTC:20240905T140000
DTEND;TZID=UTC:20240905T150000
DTSTAMP:20260419T160416
CREATED:20240708T171101Z
LAST-MODIFIED:20240829T154134Z
UID:199015-1725544800-1725548400@www.cardinalmooney.com
SUMMARY:Fall Sports Pep Rally
DESCRIPTION:
URL:https://www.cardinalmooney.com/event/pep-rally-for-villa-angela-st-joseph-football-game/
LOCATION:Cardinal Mooney High School Gymnasium
CATEGORIES:Athletics,Calendar,Event
END:VEVENT
BEGIN:VEVENT
DTSTART;TZID=UTC:20240911T103000
DTEND;TZID=UTC:20240911T113000
DTSTAMP:20260419T160416
CREATED:20240708T172319Z
LAST-MODIFIED:20240708T172413Z
UID:199024-1726050600-1726054200@www.cardinalmooney.com
SUMMARY:Opening School Mass
DESCRIPTION:
URL:https://www.cardinalmooney.com/event/opening-school-mass-2/
LOCATION:Cardinal Mooney High School Auditorium
CATEGORIES:Calendar,Event
END:VEVENT
BEGIN:VEVENT
DTSTART;VALUE=DATE:20240914
DTEND;VALUE=DATE:20240915
DTSTAMP:20260419T160416
CREATED:20240610T163020Z
LAST-MODIFIED:20240715T171045Z
UID:198886-1726272000-1726358399@www.cardinalmooney.com
SUMMARY:Cardinal Mooney Volleyball presents 'Cardinal Cornhole'
DESCRIPTION:Register and Sponsor for the event on https://www.cardinalmooney.com/cornhole. \n 
URL:https://www.cardinalmooney.com/event/cardinal-mooney-volleyball-presents-cardinal-cornhole/
LOCATION:Cardinal Mooney High School
CATEGORIES:Athletics,Calendar,Event
ATTACH;FMTTYPE=image/jpeg:https://www.cardinalmooney.com/wp-content/uploads/2024/06/Annotation-2024-06-10-122153.jpg
END:VEVENT
BEGIN:VEVENT
DTSTART;TZID=UTC:20240925T080000
DTEND;TZID=UTC:20240925T150000
DTSTAMP:20260419T160416
CREATED:20240715T153050Z
LAST-MODIFIED:20240715T153050Z
UID:199048-1727251200-1727276400@www.cardinalmooney.com
SUMMARY:All-School Day Of Service
DESCRIPTION:
URL:https://www.cardinalmooney.com/event/all-school-day-of-service/
CATEGORIES:Calendar,Event
ATTACH;FMTTYPE=image/jpeg:https://www.cardinalmooney.com/wp-content/uploads/2023/09/e81c50b7-4fa7-48aa-be6e-d17dac012dfc-scaled.jpg
END:VEVENT
BEGIN:VEVENT
DTSTART;TZID=UTC:20240928T160000
DTEND;TZID=UTC:20240928T180000
DTSTAMP:20260419T160416
CREATED:20240923T125104Z
LAST-MODIFIED:20240924T152505Z
UID:199604-1727539200-1727546400@www.cardinalmooney.com
SUMMARY:Tailgate Party before varsity football game against Boardman
DESCRIPTION:
URL:https://www.cardinalmooney.com/event/tailgate-party-before-boardman-varsity-football-game/
LOCATION:St. Charles
CATEGORIES:Athletics,Calendar,Event
ATTACH;FMTTYPE=image/jpeg:https://www.cardinalmooney.com/wp-content/uploads/2024/09/0-1.jpg
END:VEVENT
END:VCALENDAR