BEGIN:VCALENDAR
VERSION:2.0
PRODID:-//Cardinal Mooney - ECPv6.15.20//NONSGML v1.0//EN
CALSCALE:GREGORIAN
METHOD:PUBLISH
X-WR-CALNAME:Cardinal Mooney
X-ORIGINAL-URL:https://www.cardinalmooney.com
X-WR-CALDESC:Events for Cardinal Mooney
REFRESH-INTERVAL;VALUE=DURATION:PT1H
X-Robots-Tag:noindex
X-PUBLISHED-TTL:PT1H
BEGIN:VTIMEZONE
TZID:UTC
BEGIN:STANDARD
TZOFFSETFROM:+0000
TZOFFSETTO:+0000
TZNAME:UTC
DTSTART:20230101T000000
END:STANDARD
END:VTIMEZONE
BEGIN:VEVENT
DTSTART;TZID=UTC:20241002T180000
DTEND;TZID=UTC:20241002T200000
DTSTAMP:20260419T174940
CREATED:20240917T190248Z
LAST-MODIFIED:20240917T190248Z
UID:199593-1727892000-1727899200@www.cardinalmooney.com
SUMMARY:Prospective Parents Night
DESCRIPTION:
URL:https://www.cardinalmooney.com/event/prospective-parents-night/
LOCATION:Cardinal Mooney High School
CATEGORIES:Calendar,Event
ATTACH;FMTTYPE=image/png:https://www.cardinalmooney.com/wp-content/uploads/2024/09/Add-a-heading.png
END:VEVENT
BEGIN:VEVENT
DTSTART;TZID=UTC:20241003T140000
DTEND;TZID=UTC:20241003T220000
DTSTAMP:20260419T174940
CREATED:20240923T141855Z
LAST-MODIFIED:20240923T141855Z
UID:199609-1727964000-1727992800@www.cardinalmooney.com
SUMMARY:20th Anniversary Celebration of the 2004 State Championship Football Team
DESCRIPTION:Pep rally and campus tour: 2 p.m.\nPre-game at MVR: 4:30 p.m.\nGame vs Chaney at YSU: 7 p.m.
URL:https://www.cardinalmooney.com/event/20th-anniversary-celebration-of-the-2004-state-championship-football-team/
CATEGORIES:Athletics,Calendar,Event
ATTACH;FMTTYPE=image/png:https://www.cardinalmooney.com/wp-content/uploads/2024/09/14.png
END:VEVENT
BEGIN:VEVENT
DTSTART;TZID=UTC:20241005T190000
DTEND;TZID=UTC:20241005T220000
DTSTAMP:20260419T174940
CREATED:20240715T154543Z
LAST-MODIFIED:20240923T144306Z
UID:199051-1728154800-1728165600@www.cardinalmooney.com
SUMMARY:Homecoming Dance
DESCRIPTION:
URL:https://www.cardinalmooney.com/event/homecoming-dance/
LOCATION:Byzantine Center At The Grove\, 3801 Shady Run Rd\, Youngstown\, OH\, 44502\, United States
CATEGORIES:Calendar,Event
ATTACH;FMTTYPE=image/png:https://www.cardinalmooney.com/wp-content/uploads/2024/07/Newsletter-headers-23.png
END:VEVENT
BEGIN:VEVENT
DTSTART;TZID=UTC:20241017T083000
DTEND;TZID=UTC:20241017T150000
DTSTAMP:20260419T174940
CREATED:20240715T154656Z
LAST-MODIFIED:20240930T122843Z
UID:199060-1729153800-1729177200@www.cardinalmooney.com
SUMMARY:Junior Retreat
DESCRIPTION:
URL:https://www.cardinalmooney.com/event/junior-retreat/
CATEGORIES:Calendar,Event
END:VEVENT
BEGIN:VEVENT
DTSTART;TZID=UTC:20241018T080000
DTEND;TZID=UTC:20241018T170000
DTSTAMP:20260419T174940
CREATED:20241018T152916Z
LAST-MODIFIED:20241018T152916Z
UID:199718-1729238400-1729270800@www.cardinalmooney.com
SUMMARY:Junior/Senior PowderPuff Game
DESCRIPTION:Sunday\, Oct. 20\, 5:30 p.m. on Don Bucci Field. Admission is $3 for adults and $1 for students. Concessions will be available. Come cheer on our junior and senior girls!
URL:https://www.cardinalmooney.com/event/junior-senior-powderpuff-game/
CATEGORIES:Athletics,Calendar,Event
ATTACH;FMTTYPE=image/jpeg:https://www.cardinalmooney.com/wp-content/uploads/2024/10/0.jpg
END:VEVENT
BEGIN:VEVENT
DTSTART;TZID=UTC:20241024T110000
DTEND;TZID=UTC:20241024T120000
DTSTAMP:20260419T174940
CREATED:20241011T133527Z
LAST-MODIFIED:20241011T134144Z
UID:199669-1729767600-1729771200@www.cardinalmooney.com
SUMMARY:Celebration of Cardinal Mooney Mass
DESCRIPTION:On Thursday\, Oct. 24 at 11 am. At 11 am\, we will have a Mass in honor of our namesake\, Cardinal Edward Aloysius Mooney (May 9\, 1882 – Oct. 25\, 1958). This will be a teaching Mass in which Fr. Rovnak will discuss the various parts and aspects of the Mass. As always\, alumni\, friends\, and family of Cardinal Mooney are welcome to attend.
URL:https://www.cardinalmooney.com/event/all-school-mass/
LOCATION:Cardinal Mooney High School Auditorium
CATEGORIES:Calendar,Event
END:VEVENT
BEGIN:VEVENT
DTSTART;TZID=UTC:20241025T123000
DTEND;TZID=UTC:20241025T133000
DTSTAMP:20260419T174940
CREATED:20241018T152257Z
LAST-MODIFIED:20241018T152257Z
UID:199716-1729859400-1729863000@www.cardinalmooney.com
SUMMARY:Pep rally for Ursuline game
DESCRIPTION:
URL:https://www.cardinalmooney.com/event/pep-rally-for-ursuline-game-2/
LOCATION:Cardinal Mooney High School Gymnasium
CATEGORIES:Athletics,Calendar,Event
END:VEVENT
BEGIN:VEVENT
DTSTART;TZID=UTC:20241025T163000
DTEND;TZID=UTC:20241025T190000
DTSTAMP:20260419T174940
CREATED:20241022T180224Z
LAST-MODIFIED:20241022T180237Z
UID:199914-1729873800-1729882800@www.cardinalmooney.com
SUMMARY:Tailgate party for Ursuline game
DESCRIPTION:
URL:https://www.cardinalmooney.com/event/tailgate-for-ursuline-game/
LOCATION:Casesse’s MVR
CATEGORIES:Athletics,Calendar,Event
ATTACH;FMTTYPE=image/png:https://www.cardinalmooney.com/wp-content/uploads/2024/10/Rally-Tailgate.png
END:VEVENT
BEGIN:VEVENT
DTSTART;TZID=UTC:20241026T080000
DTEND;TZID=UTC:20241026T150000
DTSTAMP:20260419T174940
CREATED:20240507T134144Z
LAST-MODIFIED:20240507T134144Z
UID:198520-1729929600-1729954800@www.cardinalmooney.com
SUMMARY:Speech & Debate at Warren JFK
DESCRIPTION:
URL:https://www.cardinalmooney.com/event/speech-debate-at-warren-jfk/
CATEGORIES:Calendar,Event
ATTACH;FMTTYPE=image/png:https://www.cardinalmooney.com/wp-content/uploads/2024/02/Newsletter-headers-sd.png
END:VEVENT
BEGIN:VEVENT
DTSTART;TZID=UTC:20241031T140000
DTEND;TZID=UTC:20241031T150000
DTSTAMP:20260419T174940
CREATED:20241030T132221Z
LAST-MODIFIED:20241030T132221Z
UID:199977-1730383200-1730386800@www.cardinalmooney.com
SUMMARY:Presentation from 'The Pope's Astronomer'
DESCRIPTION:Cardinal Mooney High School is excited to host Br. Guy Consolmagno\, S.J.\, Director of the Vatican Observatory\, on Thursday\, Oct. 31\, from 2-3 p.m. in the auditorium. Br. Guy will be speaking on the topic\, “The Catholic Church and Science\, Especially Astronomy.” This event is a special opportunity for our students to explore the intersection of faith and science from a renowned expert. Br. Guy\, a Jesuit and an incredible speaker\, and emphasizes that there is no contradiction between faith and science. Dr. Richard Mattiussi (Theology Dept.) and Mr. David Bernard (Science Dept.)—both co-leaders of the CMHS Astronomy Club—were instrumental in arranging this talk. Our Astronomy Club members are thrilled to engage with Br. Guy and ask their burning questions about the cosmos. We encourage everyone to check out this excellent introductory video.
URL:https://www.cardinalmooney.com/event/presentation-from-the-popes-astronomer/
CATEGORIES:Calendar,Event
ATTACH;FMTTYPE=image/png:https://www.cardinalmooney.com/wp-content/uploads/2024/10/ASTRONOMY-CLUB.png
END:VEVENT
END:VCALENDAR