BEGIN:VCALENDAR
VERSION:2.0
PRODID:-//Cardinal Mooney - ECPv6.15.20//NONSGML v1.0//EN
CALSCALE:GREGORIAN
METHOD:PUBLISH
X-WR-CALNAME:Cardinal Mooney
X-ORIGINAL-URL:https://www.cardinalmooney.com
X-WR-CALDESC:Events for Cardinal Mooney
REFRESH-INTERVAL;VALUE=DURATION:PT1H
X-Robots-Tag:noindex
X-PUBLISHED-TTL:PT1H
BEGIN:VTIMEZONE
TZID:UTC
BEGIN:STANDARD
TZOFFSETFROM:+0000
TZOFFSETTO:+0000
TZNAME:UTC
DTSTART:20240101T000000
END:STANDARD
END:VTIMEZONE
BEGIN:VEVENT
DTSTART;TZID=UTC:20250104T080000
DTEND;TZID=UTC:20250104T150000
DTSTAMP:20260421T042204
CREATED:20240507T135505Z
LAST-MODIFIED:20240507T135505Z
UID:198540-1735977600-1736002800@www.cardinalmooney.com
SUMMARY:Speech & Debate at Canfield
DESCRIPTION:
URL:https://www.cardinalmooney.com/event/speech-debate-at-canfield/
CATEGORIES:Calendar,Event
ATTACH;FMTTYPE=image/png:https://www.cardinalmooney.com/wp-content/uploads/2024/02/Newsletter-headers-sd.png
END:VEVENT
BEGIN:VEVENT
DTSTART;TZID=UTC:20250111T080000
DTEND;TZID=UTC:20250111T150000
DTSTAMP:20260421T042204
CREATED:20240507T135712Z
LAST-MODIFIED:20240507T141107Z
UID:198542-1736582400-1736607600@www.cardinalmooney.com
SUMMARY:Speech & Debate at Cardinal Mooney
DESCRIPTION:
URL:https://www.cardinalmooney.com/event/speech-debate-at-cardinal-mooney/
LOCATION:Cardinal Mooney High School
CATEGORIES:Calendar,Event
ATTACH;FMTTYPE=image/png:https://www.cardinalmooney.com/wp-content/uploads/2024/02/Newsletter-headers-sd.png
END:VEVENT
BEGIN:VEVENT
DTSTART;VALUE=DATE:20250120
DTEND;VALUE=DATE:20250121
DTSTAMP:20260421T042204
CREATED:20240716T144022Z
LAST-MODIFIED:20240716T144022Z
UID:199087-1737331200-1737417599@www.cardinalmooney.com
SUMMARY:Martin Luther King Jr. Day — No School
DESCRIPTION:
URL:https://www.cardinalmooney.com/event/martin-luther-king-jr-day-no-school-2/
CATEGORIES:Calendar,Event
END:VEVENT
BEGIN:VEVENT
DTSTART;TZID=UTC:20250126T140000
DTEND;TZID=UTC:20250126T230000
DTSTAMP:20260421T042204
CREATED:20250116T171703Z
LAST-MODIFIED:20250116T233811Z
UID:200813-1737900000-1737932400@www.cardinalmooney.com
SUMMARY:Seventh Annual Championship Sunday Block Pool
DESCRIPTION:The Cardinal Mooney Athletic Advancement organization is hosting the 7th Championship Sunday Block Pool on Sunday January 26th at Caffe Capri Italian Bar & Grille. Doors open at 2pm. The ticket cost is $175.00 and it includes admission for you and a guest\, 1 block in the AFC and NFC championship games (new numbers assigned each quarter)\, great food and beverages. Payout is $750.00 per qtr ($600.00 for straight\, $150.00 for reverse). All proceeds benefit all athletic programs at Cardinal Mooney High School. Click on the link below to purchase your block(s). Be sure and answer the will you be bringing a guest question.  \nGet tickets here!
URL:https://www.cardinalmooney.com/event/championshipsunday/
LOCATION:Cafe Capri Italian Bar & Grille
CATEGORIES:Athletics,Calendar,Event
ATTACH;FMTTYPE=image/jpeg:https://www.cardinalmooney.com/wp-content/uploads/2025/01/IMG_0240.jpeg
END:VEVENT
BEGIN:VEVENT
DTSTART;TZID=UTC:20250128T170000
DTEND;TZID=UTC:20250128T180000
DTSTAMP:20260421T042204
CREATED:20250127T210250Z
LAST-MODIFIED:20250127T210426Z
UID:200843-1738083600-1738087200@www.cardinalmooney.com
SUMMARY:Meet And Greet / Press Conference for Frank Colaprete
DESCRIPTION:Our new football coach\, Frank Colaprete\, will be available to meet members of the press\, parents\, students\, and members of the Mooney Family.
URL:https://www.cardinalmooney.com/event/meet-and-greet-press-conference-for-frank-colaprete/
LOCATION:Cardinal Mooney High School Gymnasium
CATEGORIES:Athletics,Calendar,Event
END:VEVENT
BEGIN:VEVENT
DTSTART;TZID=UTC:20250129T173000
DTEND;TZID=UTC:20250129T200000
DTSTAMP:20260421T042204
CREATED:20241104T155344Z
LAST-MODIFIED:20250129T140137Z
UID:200010-1738171800-1738180800@www.cardinalmooney.com
SUMMARY:National Honor Society Induction Ceremony
DESCRIPTION:
URL:https://www.cardinalmooney.com/event/national-honor-society-induction-ceremony-2/
LOCATION:Cardinal Mooney High School Auditorium
CATEGORIES:Calendar,Event
ATTACH;FMTTYPE=image/png:https://www.cardinalmooney.com/wp-content/uploads/2024/01/nhs.png
END:VEVENT
BEGIN:VEVENT
DTSTART;TZID=UTC:20250130T103000
DTEND;TZID=UTC:20250130T120000
DTSTAMP:20260421T042204
CREATED:20250107T160334Z
LAST-MODIFIED:20250107T160420Z
UID:200765-1738233000-1738238400@www.cardinalmooney.com
SUMMARY:Distinguished Alumni Prayer Service and Ceremony
DESCRIPTION:
URL:https://www.cardinalmooney.com/event/distinguished-alumni-presentation/
LOCATION:Cardinal Mooney High School Auditorium
CATEGORIES:Calendar,Event
ATTACH;FMTTYPE=image/png:https://www.cardinalmooney.com/wp-content/uploads/2025/01/Newsletter-headers-24.png
END:VEVENT
END:VCALENDAR