BEGIN:VCALENDAR
VERSION:2.0
PRODID:-//Cardinal Mooney - ECPv6.15.20//NONSGML v1.0//EN
CALSCALE:GREGORIAN
METHOD:PUBLISH
X-ORIGINAL-URL:https://www.cardinalmooney.com
X-WR-CALDESC:Events for Cardinal Mooney
REFRESH-INTERVAL;VALUE=DURATION:PT1H
X-Robots-Tag:noindex
X-PUBLISHED-TTL:PT1H
BEGIN:VTIMEZONE
TZID:UTC
BEGIN:STANDARD
TZOFFSETFROM:+0000
TZOFFSETTO:+0000
TZNAME:UTC
DTSTART:20240101T000000
END:STANDARD
END:VTIMEZONE
BEGIN:VEVENT
DTSTART;TZID=UTC:20250207T190000
DTEND;TZID=UTC:20250207T210000
DTSTAMP:20260421T004600
CREATED:20250116T145912Z
LAST-MODIFIED:20250205T142736Z
UID:200809-1738954800-1738962000@www.cardinalmooney.com
SUMMARY:Cardinal Mooney Cheer Performance
DESCRIPTION:Register here!
URL:https://www.cardinalmooney.com/event/cheerperformance/
LOCATION:Cardinal Mooney High School
CATEGORIES:Calendar,Event
END:VEVENT
BEGIN:VEVENT
DTSTART;TZID=UTC:20250213T170000
DTEND;TZID=UTC:20250213T190000
DTSTAMP:20260421T004600
CREATED:20240716T144430Z
LAST-MODIFIED:20250127T144150Z
UID:199091-1739466000-1739473200@www.cardinalmooney.com
SUMMARY:Winter Open House
DESCRIPTION:
URL:https://www.cardinalmooney.com/event/winter-open-house-2/
CATEGORIES:Calendar,Event
END:VEVENT
BEGIN:VEVENT
DTSTART;TZID=UTC:20250221T080000
DTEND;TZID=UTC:20250221T150000
DTSTAMP:20260421T004600
CREATED:20240716T145435Z
LAST-MODIFIED:20240716T145435Z
UID:199097-1740124800-1740150000@www.cardinalmooney.com
SUMMARY:7th Grade Day — No School
DESCRIPTION:
URL:https://www.cardinalmooney.com/event/7th-grade-day-no-school/
CATEGORIES:Calendar,Event
END:VEVENT
BEGIN:VEVENT
DTSTART;TZID=UTC:20250222T180000
DTEND;TZID=UTC:20250222T220000
DTSTAMP:20260421T004600
CREATED:20241018T125050Z
LAST-MODIFIED:20250117T193952Z
UID:199713-1740247200-1740261600@www.cardinalmooney.com
SUMMARY:Athletic Hall Of Fame Induction Ceremony
DESCRIPTION:Purchase tickets here! \nPurchase programs ads here!
URL:https://www.cardinalmooney.com/event/halloffame/
LOCATION:The Lake Club
CATEGORIES:Athletics,Calendar,Event
ATTACH;FMTTYPE=image/png:https://www.cardinalmooney.com/wp-content/uploads/2024/10/Newsletter-headers-24t.png
END:VEVENT
BEGIN:VEVENT
DTSTART;TZID=UTC:20250224T173000
DTEND;TZID=UTC:20250224T193000
DTSTAMP:20260421T004600
CREATED:20250220T184301Z
LAST-MODIFIED:20250220T184515Z
UID:201107-1740418200-1740425400@www.cardinalmooney.com
SUMMARY:Baseball tryouts
DESCRIPTION:Cardinal Mooney baseball tryouts will be held on the following dates: \n\nMonday\, Feb. 24: 5:30-7:30 p.m.\nTuesday\, Feb. 25: 3:25-5:15 p.m.\n\nAll players are required to wear Mooney baseball hats\, Mooney shirts and baseball pants for tryouts and all mandatory practices. If you do not have these items\, notify Coach Reese on Monday\, Feb. 24\, to make arrangements. \nWinter sports athletes must be cleared by their winter coach before participating in tryouts or mandatory practices. \nFor questions\, contact Coach Reese. Let’s get ready for a great season — Go Cards!
URL:https://www.cardinalmooney.com/event/baseball-tryouts/
LOCATION:Ron Stoops Sr. Baseball And Softball Facility
CATEGORIES:Athletics,Calendar,Event
ATTACH;FMTTYPE=image/png:https://www.cardinalmooney.com/wp-content/uploads/2025/02/1.png
END:VEVENT
BEGIN:VEVENT
DTSTART;TZID=UTC:20250225T152500
DTEND;TZID=UTC:20250225T171500
DTSTAMP:20260421T004600
CREATED:20250220T184453Z
LAST-MODIFIED:20250220T184453Z
UID:201112-1740497100-1740503700@www.cardinalmooney.com
SUMMARY:Baseball tryouts
DESCRIPTION:Cardinal Mooney baseball tryouts will be held on the following dates: \n\nMonday\, Feb. 24: 5:30-7:30 p.m.\nTuesday\, Feb. 25: 3:25-5:15 p.m.\n\nAll players are required to wear Mooney baseball hats\, Mooney shirts and baseball pants for tryouts and all mandatory practices. If you do not have these items\, notify Coach Reese on Monday\, Feb. 24\, to make arrangements. \nWinter sports athletes must be cleared by their winter coach before participating in tryouts or mandatory practices. \nFor questions\, contact Coach Reese. Let’s get ready for a great season — Go Cards!
URL:https://www.cardinalmooney.com/event/baseball-tryouts-2/
LOCATION:Ron Stoops Sr. Baseball And Softball Facility
CATEGORIES:Athletics,Calendar,Event
ATTACH;FMTTYPE=image/png:https://www.cardinalmooney.com/wp-content/uploads/2025/02/1.png
END:VEVENT
BEGIN:VEVENT
DTSTART;TZID=UTC:20250226T153000
DTEND;TZID=UTC:20250226T183000
DTSTAMP:20260421T004600
CREATED:20240716T151926Z
LAST-MODIFIED:20250221T131037Z
UID:199123-1740583800-1740594600@www.cardinalmooney.com
SUMMARY:Parent/Teacher Conferences
DESCRIPTION:Parent-Teacher Conferences\nWe look forward to welcoming parents on Thursday\, Nov. 7 from 4:30 – 6:30 p.m. (excluding 5-5:30 break) to visit with teachers at this year’s Parent-Teacher Conferences.  Parent-Teacher Conferences provide a timely opportunity to assess your student’s academic progress and discuss any other pertinent matters with their teachers. No appointments are necessary\, as parents can visit teachers on a walk-in basis.
URL:https://www.cardinalmooney.com/event/parent-teacher-conferences-3/
CATEGORIES:Calendar,Event
ATTACH;FMTTYPE=image/png:https://www.cardinalmooney.com/wp-content/uploads/2024/01/2.png
END:VEVENT
END:VCALENDAR