BEGIN:VCALENDAR
VERSION:2.0
PRODID:-//Cardinal Mooney - ECPv6.15.20//NONSGML v1.0//EN
CALSCALE:GREGORIAN
METHOD:PUBLISH
X-WR-CALNAME:Cardinal Mooney
X-ORIGINAL-URL:https://www.cardinalmooney.com
X-WR-CALDESC:Events for Cardinal Mooney
REFRESH-INTERVAL;VALUE=DURATION:PT1H
X-Robots-Tag:noindex
X-PUBLISHED-TTL:PT1H
BEGIN:VTIMEZONE
TZID:UTC
BEGIN:STANDARD
TZOFFSETFROM:+0000
TZOFFSETTO:+0000
TZNAME:UTC
DTSTART:20230101T000000
END:STANDARD
END:VTIMEZONE
BEGIN:VEVENT
DTSTART;TZID=UTC:20240925T080000
DTEND;TZID=UTC:20240925T150000
DTSTAMP:20260419T180537
CREATED:20240715T153050Z
LAST-MODIFIED:20240715T153050Z
UID:199048-1727251200-1727276400@www.cardinalmooney.com
SUMMARY:All-School Day Of Service
DESCRIPTION:
URL:https://www.cardinalmooney.com/event/all-school-day-of-service/
CATEGORIES:Calendar,Event
ATTACH;FMTTYPE=image/jpeg:https://www.cardinalmooney.com/wp-content/uploads/2023/09/e81c50b7-4fa7-48aa-be6e-d17dac012dfc-scaled.jpg
END:VEVENT
END:VCALENDAR