BEGIN:VCALENDAR
VERSION:2.0
PRODID:-//Cardinal Mooney - ECPv6.15.20//NONSGML v1.0//EN
CALSCALE:GREGORIAN
METHOD:PUBLISH
X-ORIGINAL-URL:https://www.cardinalmooney.com
X-WR-CALDESC:Events for Cardinal Mooney
REFRESH-INTERVAL;VALUE=DURATION:PT1H
X-Robots-Tag:noindex
X-PUBLISHED-TTL:PT1H
BEGIN:VTIMEZONE
TZID:UTC
BEGIN:STANDARD
TZOFFSETFROM:+0000
TZOFFSETTO:+0000
TZNAME:UTC
DTSTART:20230101T000000
END:STANDARD
END:VTIMEZONE
BEGIN:VEVENT
DTSTART;TZID=UTC:20241025T123000
DTEND;TZID=UTC:20241025T133000
DTSTAMP:20260419T195330
CREATED:20241018T152257Z
LAST-MODIFIED:20241018T152257Z
UID:199716-1729859400-1729863000@www.cardinalmooney.com
SUMMARY:Pep rally for Ursuline game
DESCRIPTION:
URL:https://www.cardinalmooney.com/event/pep-rally-for-ursuline-game-2/
LOCATION:Cardinal Mooney High School Gymnasium
CATEGORIES:Athletics,Calendar,Event
END:VEVENT
BEGIN:VEVENT
DTSTART;TZID=UTC:20241025T163000
DTEND;TZID=UTC:20241025T190000
DTSTAMP:20260419T195330
CREATED:20241022T180224Z
LAST-MODIFIED:20241022T180237Z
UID:199914-1729873800-1729882800@www.cardinalmooney.com
SUMMARY:Tailgate party for Ursuline game
DESCRIPTION:
URL:https://www.cardinalmooney.com/event/tailgate-for-ursuline-game/
LOCATION:Casesse’s MVR
CATEGORIES:Athletics,Calendar,Event
ATTACH;FMTTYPE=image/png:https://www.cardinalmooney.com/wp-content/uploads/2024/10/Rally-Tailgate.png
END:VEVENT
END:VCALENDAR