BEGIN:VCALENDAR
VERSION:2.0
PRODID:-//Cardinal Mooney - ECPv6.15.20//NONSGML v1.0//EN
CALSCALE:GREGORIAN
METHOD:PUBLISH
X-ORIGINAL-URL:https://www.cardinalmooney.com
X-WR-CALDESC:Events for Cardinal Mooney
REFRESH-INTERVAL;VALUE=DURATION:PT1H
X-Robots-Tag:noindex
X-PUBLISHED-TTL:PT1H
BEGIN:VTIMEZONE
TZID:UTC
BEGIN:STANDARD
TZOFFSETFROM:+0000
TZOFFSETTO:+0000
TZNAME:UTC
DTSTART:20230101T000000
END:STANDARD
END:VTIMEZONE
BEGIN:VEVENT
DTSTART;TZID=UTC:20241117T140000
DTEND;TZID=UTC:20241117T160000
DTSTAMP:20260420T053252
CREATED:20241015T162652Z
LAST-MODIFIED:20241015T162652Z
UID:199709-1731852000-1731859200@www.cardinalmooney.com
SUMMARY:Brothers Grimm Spectaculathon!
DESCRIPTION:
URL:https://www.cardinalmooney.com/event/brothers-grimm-spectaculathon-2/
LOCATION:Cardinal Mooney High School Auditorium
CATEGORIES:Calendar,Event
ATTACH;FMTTYPE=image/png:https://www.cardinalmooney.com/wp-content/uploads/2024/10/The-Brothers-Grimm.png
END:VEVENT
END:VCALENDAR