BEGIN:VCALENDAR
VERSION:2.0
PRODID:-//Cardinal Mooney - ECPv6.15.20//NONSGML v1.0//EN
CALSCALE:GREGORIAN
METHOD:PUBLISH
X-WR-CALNAME:Cardinal Mooney
X-ORIGINAL-URL:https://www.cardinalmooney.com
X-WR-CALDESC:Events for Cardinal Mooney
REFRESH-INTERVAL;VALUE=DURATION:PT1H
X-Robots-Tag:noindex
X-PUBLISHED-TTL:PT1H
BEGIN:VTIMEZONE
TZID:UTC
BEGIN:STANDARD
TZOFFSETFROM:+0000
TZOFFSETTO:+0000
TZNAME:UTC
DTSTART:20240101T000000
END:STANDARD
END:VTIMEZONE
BEGIN:VEVENT
DTSTART;TZID=UTC:20250130T103000
DTEND;TZID=UTC:20250130T120000
DTSTAMP:20260420T152318
CREATED:20250107T160334Z
LAST-MODIFIED:20250107T160420Z
UID:200765-1738233000-1738238400@www.cardinalmooney.com
SUMMARY:Distinguished Alumni Prayer Service and Ceremony
DESCRIPTION:
URL:https://www.cardinalmooney.com/event/distinguished-alumni-presentation/
LOCATION:Cardinal Mooney High School Auditorium
CATEGORIES:Calendar,Event
ATTACH;FMTTYPE=image/png:https://www.cardinalmooney.com/wp-content/uploads/2025/01/Newsletter-headers-24.png
END:VEVENT
END:VCALENDAR