BEGIN:VCALENDAR
VERSION:2.0
PRODID:-//Cardinal Mooney - ECPv6.15.20//NONSGML v1.0//EN
CALSCALE:GREGORIAN
METHOD:PUBLISH
X-WR-CALNAME:Cardinal Mooney
X-ORIGINAL-URL:https://www.cardinalmooney.com
X-WR-CALDESC:Events for Cardinal Mooney
REFRESH-INTERVAL;VALUE=DURATION:PT1H
X-Robots-Tag:noindex
X-PUBLISHED-TTL:PT1H
BEGIN:VTIMEZONE
TZID:UTC
BEGIN:STANDARD
TZOFFSETFROM:+0000
TZOFFSETTO:+0000
TZNAME:UTC
DTSTART:20240101T000000
END:STANDARD
END:VTIMEZONE
BEGIN:VEVENT
DTSTART;TZID=UTC:20250225T152500
DTEND;TZID=UTC:20250225T171500
DTSTAMP:20260421T113941
CREATED:20250220T184453Z
LAST-MODIFIED:20250220T184453Z
UID:201112-1740497100-1740503700@www.cardinalmooney.com
SUMMARY:Baseball tryouts
DESCRIPTION:Cardinal Mooney baseball tryouts will be held on the following dates: \n\nMonday\, Feb. 24: 5:30-7:30 p.m.\nTuesday\, Feb. 25: 3:25-5:15 p.m.\n\nAll players are required to wear Mooney baseball hats\, Mooney shirts and baseball pants for tryouts and all mandatory practices. If you do not have these items\, notify Coach Reese on Monday\, Feb. 24\, to make arrangements. \nWinter sports athletes must be cleared by their winter coach before participating in tryouts or mandatory practices. \nFor questions\, contact Coach Reese. Let’s get ready for a great season — Go Cards!
URL:https://www.cardinalmooney.com/event/baseball-tryouts-2/
LOCATION:Ron Stoops Sr. Baseball And Softball Facility
CATEGORIES:Athletics,Calendar,Event
ATTACH;FMTTYPE=image/png:https://www.cardinalmooney.com/wp-content/uploads/2025/02/1.png
END:VEVENT
END:VCALENDAR