BEGIN:VCALENDAR
VERSION:2.0
PRODID:-//Cardinal Mooney - ECPv6.15.20//NONSGML v1.0//EN
CALSCALE:GREGORIAN
METHOD:PUBLISH
X-WR-CALNAME:Cardinal Mooney
X-ORIGINAL-URL:https://www.cardinalmooney.com
X-WR-CALDESC:Events for Cardinal Mooney
REFRESH-INTERVAL;VALUE=DURATION:PT1H
X-Robots-Tag:noindex
X-PUBLISHED-TTL:PT1H
BEGIN:VTIMEZONE
TZID:UTC
BEGIN:STANDARD
TZOFFSETFROM:+0000
TZOFFSETTO:+0000
TZNAME:UTC
DTSTART:20240101T000000
END:STANDARD
END:VTIMEZONE
BEGIN:VEVENT
DTSTART;TZID=UTC:20250226T153000
DTEND;TZID=UTC:20250226T183000
DTSTAMP:20260421T113940
CREATED:20240716T151926Z
LAST-MODIFIED:20250221T131037Z
UID:199123-1740583800-1740594600@www.cardinalmooney.com
SUMMARY:Parent/Teacher Conferences
DESCRIPTION:Parent-Teacher Conferences\nWe look forward to welcoming parents on Thursday\, Nov. 7 from 4:30 – 6:30 p.m. (excluding 5-5:30 break) to visit with teachers at this year’s Parent-Teacher Conferences.  Parent-Teacher Conferences provide a timely opportunity to assess your student’s academic progress and discuss any other pertinent matters with their teachers. No appointments are necessary\, as parents can visit teachers on a walk-in basis.
URL:https://www.cardinalmooney.com/event/parent-teacher-conferences-3/
CATEGORIES:Calendar,Event
ATTACH;FMTTYPE=image/png:https://www.cardinalmooney.com/wp-content/uploads/2024/01/2.png
END:VEVENT
END:VCALENDAR