BEGIN:VCALENDAR
VERSION:2.0
PRODID:-//Cardinal Mooney - ECPv6.15.20//NONSGML v1.0//EN
CALSCALE:GREGORIAN
METHOD:PUBLISH
X-ORIGINAL-URL:https://www.cardinalmooney.com
X-WR-CALDESC:Events for Cardinal Mooney
REFRESH-INTERVAL;VALUE=DURATION:PT1H
X-Robots-Tag:noindex
X-PUBLISHED-TTL:PT1H
BEGIN:VTIMEZONE
TZID:UTC
BEGIN:STANDARD
TZOFFSETFROM:+0000
TZOFFSETTO:+0000
TZNAME:UTC
DTSTART:20240101T000000
END:STANDARD
END:VTIMEZONE
BEGIN:VEVENT
DTSTART;TZID=UTC:20250305T110000
DTEND;TZID=UTC:20250305T120000
DTSTAMP:20260422T013751
CREATED:20250220T190311Z
LAST-MODIFIED:20250221T180209Z
UID:201119-1741172400-1741176000@www.cardinalmooney.com
SUMMARY:Ash Wednesday Mass
DESCRIPTION:
URL:https://www.cardinalmooney.com/event/ash-wednesday-mass/
LOCATION:Cardinal Mooney High School Auditorium
CATEGORIES:Calendar,Event
END:VEVENT
END:VCALENDAR