BEGIN:VCALENDAR
VERSION:2.0
PRODID:-//Cardinal Mooney - ECPv6.15.20//NONSGML v1.0//EN
CALSCALE:GREGORIAN
METHOD:PUBLISH
X-WR-CALNAME:Cardinal Mooney
X-ORIGINAL-URL:https://www.cardinalmooney.com
X-WR-CALDESC:Events for Cardinal Mooney
REFRESH-INTERVAL;VALUE=DURATION:PT1H
X-Robots-Tag:noindex
X-PUBLISHED-TTL:PT1H
BEGIN:VTIMEZONE
TZID:UTC
BEGIN:STANDARD
TZOFFSETFROM:+0000
TZOFFSETTO:+0000
TZNAME:UTC
DTSTART:20240101T000000
END:STANDARD
END:VTIMEZONE
BEGIN:VEVENT
DTSTART;TZID=UTC:20250308T100000
DTEND;TZID=UTC:20250308T133000
DTSTAMP:20260422T161649
CREATED:20250113T150615Z
LAST-MODIFIED:20250113T150615Z
UID:200799-1741428000-1741440600@www.cardinalmooney.com
SUMMARY:Youth Baseball Camp
DESCRIPTION:When: Saturday\, March 8\, 2025\, from 10 a.m. to 1:30 p.m. \nWhere: Cardinal Mooney Ron Stoops Baseball/Softball Facility (located behind the Armory on Mooney’s Campus\, off Rush Avenue). \nWho: Baseball players in 3rd-8th grade who want to get some work in! \nWhat to Bring: Glove\, bat\, baseball pants or sweatpants\, athletic/all-purpose shoes\, water\, and a hat. (If the weather permits\, we may practice outside on turf). \nCost: $40 per camper \nPizza and a t-shirt are included! \nRegister here! \nContact Coach Eddie Reese at ereese@cardinalmooney.com or 330-507-2301
URL:https://www.cardinalmooney.com/event/baseballcamp/
CATEGORIES:Athletics,Calendar,Event
ATTACH;FMTTYPE=image/png:https://www.cardinalmooney.com/wp-content/uploads/2025/01/Cardinals.png
END:VEVENT
END:VCALENDAR