BEGIN:VCALENDAR
VERSION:2.0
PRODID:-//Cardinal Mooney - ECPv6.15.20//NONSGML v1.0//EN
CALSCALE:GREGORIAN
METHOD:PUBLISH
X-WR-CALNAME:Cardinal Mooney
X-ORIGINAL-URL:https://www.cardinalmooney.com
X-WR-CALDESC:Events for Cardinal Mooney
REFRESH-INTERVAL;VALUE=DURATION:PT1H
X-Robots-Tag:noindex
X-PUBLISHED-TTL:PT1H
BEGIN:VTIMEZONE
TZID:UTC
BEGIN:STANDARD
TZOFFSETFROM:+0000
TZOFFSETTO:+0000
TZNAME:UTC
DTSTART:20240101T000000
END:STANDARD
END:VTIMEZONE
BEGIN:VEVENT
DTSTART;TZID=UTC:20250314T080000
DTEND;TZID=UTC:20250314T150000
DTSTAMP:20260423T045039
CREATED:20240716T145625Z
LAST-MODIFIED:20240716T145625Z
UID:199099-1741939200-1741964400@www.cardinalmooney.com
SUMMARY:5th and 6th Grade Day — No School
DESCRIPTION:
URL:https://www.cardinalmooney.com/event/5th-and-6th-grade-day-no-school/
CATEGORIES:Calendar,Event
END:VEVENT
BEGIN:VEVENT
DTSTART;TZID=UTC:20250314T190000
DTEND;TZID=UTC:20250314T210000
DTSTAMP:20260423T045039
CREATED:20241217T204101Z
LAST-MODIFIED:20241217T204101Z
UID:200632-1741978800-1741986000@www.cardinalmooney.com
SUMMARY:Spring Musical
DESCRIPTION:
URL:https://www.cardinalmooney.com/event/spring-musical/
LOCATION:Cardinal Mooney High School Auditorium
CATEGORIES:Calendar,Event
END:VEVENT
END:VCALENDAR