BEGIN:VCALENDAR
VERSION:2.0
PRODID:-//Cardinal Mooney - ECPv6.15.20//NONSGML v1.0//EN
CALSCALE:GREGORIAN
METHOD:PUBLISH
X-WR-CALNAME:Cardinal Mooney
X-ORIGINAL-URL:https://www.cardinalmooney.com
X-WR-CALDESC:Events for Cardinal Mooney
REFRESH-INTERVAL;VALUE=DURATION:PT1H
X-Robots-Tag:noindex
X-PUBLISHED-TTL:PT1H
BEGIN:VTIMEZONE
TZID:UTC
BEGIN:STANDARD
TZOFFSETFROM:+0000
TZOFFSETTO:+0000
TZNAME:UTC
DTSTART:20240101T000000
END:STANDARD
END:VTIMEZONE
BEGIN:VEVENT
DTSTART;TZID=UTC:20250502T173000
DTEND;TZID=UTC:20250502T183000
DTSTAMP:20260424T112147
CREATED:20250414T172358Z
LAST-MODIFIED:20250414T172358Z
UID:201601-1746207000-1746210600@www.cardinalmooney.com
SUMMARY:Prom Walk-In
DESCRIPTION:
URL:https://www.cardinalmooney.com/event/prom-walk-in-2/
LOCATION:Cardinal Mooney High School
CATEGORIES:Calendar,Event
END:VEVENT
BEGIN:VEVENT
DTSTART;TZID=UTC:20250502T183000
DTEND;TZID=UTC:20250502T220000
DTSTAMP:20260424T112147
CREATED:20240716T150207Z
LAST-MODIFIED:20250414T172058Z
UID:199109-1746210600-1746223200@www.cardinalmooney.com
SUMMARY:Prom
DESCRIPTION:
URL:https://www.cardinalmooney.com/event/prom-2/
LOCATION:Drake’s Landing\, 2177 W Western Reserve Rd\, Canfield\, ohio\, 44406
CATEGORIES:Calendar,Event
END:VEVENT
END:VCALENDAR